{"text_format":"1","workbook":"xlsx","n_sheets":10,"sheets":["MTLWorksheet1","MTLWorksheet2","MTLWorksheet3","MTLWorksheet4","MTLWorksheet5","MTLWorksheet6","Instructions","Training Evals","Training Schedule","Instructions 2"],"not_rendered":{"charts":0,"images":0,"macros":1,"external_links":0,"defined_names":3,"comments":9,"pivot_tables":0},"unopened":[],"bounds":{"document_bytes":16777216,"sheet_cells":100000,"rows_first":2000,"rows_last":500,"rows_between":2000,"halvings":0,"cell_chars":16384,"cell_head_chars":4096},"cells_cut":0,"cells_raw":0,"read":"whole","date_system":"1900"}

{"sheet":"MTLWorksheet1","index":0,"n_rows":51,"n_cols":2,"rows_kept":51,"cut":false,"hidden":false,"merged":[]}
["Task Number","Task "]
[1]
[2]
[3]
[4]
[5]
[6]
[7]
[8]
[9]
[10]
[11]
[12]
[13]
[14]
[15]
[16]
[17]
[18]
[19]
[20]
[21]
[22]
[23]
[24]
[25]
[26]
[27]
[28]
[29]
[30]
[31]
[32]
[33]
[34]
[35]
[36]
[37]
[38]
[39]
[40]
[41]
[42]
[43]
[44]
[45]
[46]
[47]
[48]
[49]
[50]

{"sheet":"MTLWorksheet2","index":1,"n_rows":51,"n_cols":6,"rows_kept":51,"cut":false,"hidden":false,"merged":[]}
["Task Number","Task ","Frequency","Complexity of Task","Complexity to Learn","Criticality"]
[1]
[2]
[3]
[4]
[5]
[6]
[7]
[8]
[9]
[10]
[11]
[12]
[13]
[14]
[15]
[16]
[17]
[18]
[19]
[20]
[21]
[22]
[23]
[24]
[25]
[26]
[27]
[28]
[29]
[30]
[31]
[32]
[33]
[34]
[35]
[36]
[37]
[38]
[39]
[40]
[41]
[42]
[43]
[44]
[45]
[46]
[47]
[48]
[49]
[50]

{"sheet":"MTLWorksheet3","index":2,"n_rows":51,"n_cols":15,"rows_kept":51,"cut":false,"hidden":false,"merged":[]}
["Task Number","Task ","Frequency","Complexity of Task","Complexity to Learn","Criticality","Training Requirements","Knowledge Item?","Checklist?","Quality Check?","OJT?","Thorough Instructions?","Formal Training?","JITT","Job Aids"]
[1,{"$f":"IF(MTLWorksheet2!B2 = \"\",\"\",MTLWorksheet2!B2)","v":""},{"$f":"IF(MTLWorksheet2!C2 = \"\",\"\",MTLWorksheet2!C2)","v":""},{"$f":"IF(MTLWorksheet2!D2 = \"\",\"\",MTLWorksheet2!D2)","v":""},{"$f":"IF(MTLWorksheet2!E2 = \"\",\"\",MTLWorksheet2!E2)","v":""},{"$f":"IF(MTLWorksheet2!F2 = \"\",\"\",MTLWorksheet2!F2)","v":""},{"$f":"IF(D2=\"H\",\"Y\",(IF(E2=\"H\",\"Y\",(IF(D2=\"M\",(IF(E2=\"M\",\"Y\",\"N\")),\"N\")))))","v":"N"},{"$f":"IF(D2=\"H\",\"Y\",(IF(E2=\"H\",\"Y\",\"\")))","v":""},{"$f":"IF(F2=\"M\",\"Y\",(IF(F2=\"H\",\"Y\",\"\")))","v":""},{"$f":"IF(F2=\"H\",\"Y\",\"\")","v":""},{"$f":"IF(E2=\"L\",(IF(G2=\"Y\",\"Y\",\"\")),\"\")","v":""},{"$f":"IF(G2=\"Y\",(IF(C2=\"L\",\"Y\",\"\")),\"\")","v":""},{"$f":"IF(G2=\"Y\",(IF(E2=\"M\",\"Y\",(IF(E2=\"H\",\"Y\",\"\")))),\"\")","v":""},{"$f":"IF(G2=\"Y\",(IF(C2=\"L\",\"Y\",\"\")),\"\")","v":""},{"$f":"IF(C2=\"L\",(IF(OR(F2=\"M\",F2=\"H\"),\"Y\",\"\")),\"\")","v":""}]
[2,{"$f":"IF(MTLWorksheet2!B3 = \"\",\"\",MTLWorksheet2!B3)","v":""},{"$f":"IF(MTLWorksheet2!C3 = \"\",\"\",MTLWorksheet2!C3)","v":""},{"$f":"IF(MTLWorksheet2!D3 = \"\",\"\",MTLWorksheet2!D3)","v":""},{"$f":"IF(MTLWorksheet2!E3 = \"\",\"\",MTLWorksheet2!E3)","v":""},{"$f":"IF(MTLWorksheet2!F3 = \"\",\"\",MTLWorksheet2!F3)","v":""},"N",{"$f":"IF(D3=\"H\",\"Y\",(IF(E3=\"H\",\"Y\",\"\")))","v":""},{"$f":"IF(F3=\"M\",\"Y\",(IF(F3=\"H\",\"Y\",\"\")))","v":""},{"$f":"IF(F3=\"H\",\"Y\",\"\")","v":""},{"$f":"IF(E3=\"L\",(IF(G3=\"Y\",\"Y\",\"\")),\"\")","v":""},{"$f":"IF(G3=\"Y\",(IF(C3=\"L\",\"Y\",\"\")),\"\")","v":""},{"$f":"IF(G3=\"Y\",(IF(E3=\"M\",\"Y\",(IF(E3=\"H\",\"Y\",\"\")))),\"\")","v":""},{"$f":"IF(G3=\"Y\",(IF(C3=\"L\",\"Y\",\"\")),\"\")","v":""},{"$f":"IF(C3=\"L\",(IF(OR(F3=\"M\",F3=\"H\"),\"Y\",\"\")),\"\")","v":""}]
[3,{"$f":"IF(MTLWorksheet2!B4 = \"\",\"\",MTLWorksheet2!B4)","v":""},{"$f":"IF(MTLWorksheet2!C4 = \"\",\"\",MTLWorksheet2!C4)","v":""},{"$f":"IF(MTLWorksheet2!D4 = \"\",\"\",MTLWorksheet2!D4)","v":""},{"$f":"IF(MTLWorksheet2!E4 = \"\",\"\",MTLWorksheet2!E4)","v":""},{"$f":"IF(MTLWorksheet2!F4 = \"\",\"\",MTLWorksheet2!F4)","v":""},"N","","","","","","","",""]
[4,{"$f":"IF(MTLWorksheet2!B5 = \"\",\"\",MTLWorksheet2!B5)","v":""},{"$f":"IF(MTLWorksheet2!C5 = \"\",\"\",MTLWorksheet2!C5)","v":""},{"$f":"IF(MTLWorksheet2!D5 = \"\",\"\",MTLWorksheet2!D5)","v":""},{"$f":"IF(MTLWorksheet2!E5 = \"\",\"\",MTLWorksheet2!E5)","v":""},{"$f":"IF(MTLWorksheet2!F5 = \"\",\"\",MTLWorksheet2!F5)","v":""},"N","","","","","","","",""]
[5,{"$f":"IF(MTLWorksheet2!B6 = \"\",\"\",MTLWorksheet2!B6)","v":""},{"$f":"IF(MTLWorksheet2!C6 = \"\",\"\",MTLWorksheet2!C6)","v":""},{"$f":"IF(MTLWorksheet2!D6 = \"\",\"\",MTLWorksheet2!D6)","v":""},{"$f":"IF(MTLWorksheet2!E6 = \"\",\"\",MTLWorksheet2!E6)","v":""},{"$f":"IF(MTLWorksheet2!F6 = \"\",\"\",MTLWorksheet2!F6)","v":""},"N","","","","","","","",""]
[6,{"$f":"IF(MTLWorksheet2!B7 = \"\",\"\",MTLWorksheet2!B7)","v":""},{"$f":"IF(MTLWorksheet2!C7 = \"\",\"\",MTLWorksheet2!C7)","v":""},{"$f":"IF(MTLWorksheet2!D7 = \"\",\"\",MTLWorksheet2!D7)","v":""},{"$f":"IF(MTLWorksheet2!E7 = \"\",\"\",MTLWorksheet2!E7)","v":""},{"$f":"IF(MTLWorksheet2!F7 = \"\",\"\",MTLWorksheet2!F7)","v":""},"N","","","","","","","",""]
[7,{"$f":"IF(MTLWorksheet2!B8 = \"\",\"\",MTLWorksheet2!B8)","v":""},{"$f":"IF(MTLWorksheet2!C8 = \"\",\"\",MTLWorksheet2!C8)","v":""},{"$f":"IF(MTLWorksheet2!D8 = \"\",\"\",MTLWorksheet2!D8)","v":""},{"$f":"IF(MTLWorksheet2!E8 = \"\",\"\",MTLWorksheet2!E8)","v":""},{"$f":"IF(MTLWorksheet2!F8 = \"\",\"\",MTLWorksheet2!F8)","v":""},"N","","","","","","","",""]
[8,{"$f":"IF(MTLWorksheet2!B9 = \"\",\"\",MTLWorksheet2!B9)","v":""},{"$f":"IF(MTLWorksheet2!C9 = \"\",\"\",MTLWorksheet2!C9)","v":""},{"$f":"IF(MTLWorksheet2!D9 = \"\",\"\",MTLWorksheet2!D9)","v":""},{"$f":"IF(MTLWorksheet2!E9 = \"\",\"\",MTLWorksheet2!E9)","v":""},{"$f":"IF(MTLWorksheet2!F9 = \"\",\"\",MTLWorksheet2!F9)","v":""},"N","","","","","","","",""]
[9,{"$f":"IF(MTLWorksheet2!B10 = \"\",\"\",MTLWorksheet2!B10)","v":""},{"$f":"IF(MTLWorksheet2!C10 = \"\",\"\",MTLWorksheet2!C10)","v":""},{"$f":"IF(MTLWorksheet2!D10 = \"\",\"\",MTLWorksheet2!D10)","v":""},{"$f":"IF(MTLWorksheet2!E10 = \"\",\"\",MTLWorksheet2!E10)","v":""},{"$f":"IF(MTLWorksheet2!F10 = \"\",\"\",MTLWorksheet2!F10)","v":""},"N","","","","","","","",""]
[10,{"$f":"IF(MTLWorksheet2!B11 = \"\",\"\",MTLWorksheet2!B11)","v":""},{"$f":"IF(MTLWorksheet2!C11 = \"\",\"\",MTLWorksheet2!C11)","v":""},{"$f":"IF(MTLWorksheet2!D11 = \"\",\"\",MTLWorksheet2!D11)","v":""},{"$f":"IF(MTLWorksheet2!E11 = \"\",\"\",MTLWorksheet2!E11)","v":""},{"$f":"IF(MTLWorksheet2!F11 = \"\",\"\",MTLWorksheet2!F11)","v":""},"N","","","","","","","",""]
[11,{"$f":"IF(MTLWorksheet2!B12 = \"\",\"\",MTLWorksheet2!B12)","v":""},{"$f":"IF(MTLWorksheet2!C12 = \"\",\"\",MTLWorksheet2!C12)","v":""},{"$f":"IF(MTLWorksheet2!D12 = \"\",\"\",MTLWorksheet2!D12)","v":""},{"$f":"IF(MTLWorksheet2!E12 = \"\",\"\",MTLWorksheet2!E12)","v":""},{"$f":"IF(MTLWorksheet2!F12 = \"\",\"\",MTLWorksheet2!F12)","v":""},"N","","","","","","","",""]
[12,{"$f":"IF(MTLWorksheet2!B13 = \"\",\"\",MTLWorksheet2!B13)","v":""},{"$f":"IF(MTLWorksheet2!C13 = \"\",\"\",MTLWorksheet2!C13)","v":""},{"$f":"IF(MTLWorksheet2!D13 = \"\",\"\",MTLWorksheet2!D13)","v":""},{"$f":"IF(MTLWorksheet2!E13 = \"\",\"\",MTLWorksheet2!E13)","v":""},{"$f":"IF(MTLWorksheet2!F13 = \"\",\"\",MTLWorksheet2!F13)","v":""},"N","","","","","","","",""]
[13,{"$f":"IF(MTLWorksheet2!B14 = \"\",\"\",MTLWorksheet2!B14)","v":""},{"$f":"IF(MTLWorksheet2!C14 = \"\",\"\",MTLWorksheet2!C14)","v":""},{"$f":"IF(MTLWorksheet2!D14 = \"\",\"\",MTLWorksheet2!D14)","v":""},{"$f":"IF(MTLWorksheet2!E14 = \"\",\"\",MTLWorksheet2!E14)","v":""},{"$f":"IF(MTLWorksheet2!F14 = \"\",\"\",MTLWorksheet2!F14)","v":""},"N","","","","","","","",""]
[14,{"$f":"IF(MTLWorksheet2!B15 = \"\",\"\",MTLWorksheet2!B15)","v":""},{"$f":"IF(MTLWorksheet2!C15 = \"\",\"\",MTLWorksheet2!C15)","v":""},{"$f":"IF(MTLWorksheet2!D15 = \"\",\"\",MTLWorksheet2!D15)","v":""},{"$f":"IF(MTLWorksheet2!E15 = \"\",\"\",MTLWorksheet2!E15)","v":""},{"$f":"IF(MTLWorksheet2!F15 = \"\",\"\",MTLWorksheet2!F15)","v":""},"N","","","","","","","",""]
[15,{"$f":"IF(MTLWorksheet2!B16 = \"\",\"\",MTLWorksheet2!B16)","v":""},{"$f":"IF(MTLWorksheet2!C16 = \"\",\"\",MTLWorksheet2!C16)","v":""},{"$f":"IF(MTLWorksheet2!D16 = \"\",\"\",MTLWorksheet2!D16)","v":""},{"$f":"IF(MTLWorksheet2!E16 = \"\",\"\",MTLWorksheet2!E16)","v":""},{"$f":"IF(MTLWorksheet2!F16 = \"\",\"\",MTLWorksheet2!F16)","v":""},"N","","","","","","","",""]
[16,{"$f":"IF(MTLWorksheet2!B17 = \"\",\"\",MTLWorksheet2!B17)","v":""},{"$f":"IF(MTLWorksheet2!C17 = \"\",\"\",MTLWorksheet2!C17)","v":""},{"$f":"IF(MTLWorksheet2!D17 = \"\",\"\",MTLWorksheet2!D17)","v":""},{"$f":"IF(MTLWorksheet2!E17 = \"\",\"\",MTLWorksheet2!E17)","v":""},{"$f":"IF(MTLWorksheet2!F17 = \"\",\"\",MTLWorksheet2!F17)","v":""},"N","","","","","","","",""]
[17,{"$f":"IF(MTLWorksheet2!B18 = \"\",\"\",MTLWorksheet2!B18)","v":""},{"$f":"IF(MTLWorksheet2!C18 = \"\",\"\",MTLWorksheet2!C18)","v":""},{"$f":"IF(MTLWorksheet2!D18 = \"\",\"\",MTLWorksheet2!D18)","v":""},{"$f":"IF(MTLWorksheet2!E18 = \"\",\"\",MTLWorksheet2!E18)","v":""},{"$f":"IF(MTLWorksheet2!F18 = \"\",\"\",MTLWorksheet2!F18)","v":""},"N","","","","","","","",""]
[18,{"$f":"IF(MTLWorksheet2!B19 = \"\",\"\",MTLWorksheet2!B19)","v":""},{"$f":"IF(MTLWorksheet2!C19 = \"\",\"\",MTLWorksheet2!C19)","v":""},{"$f":"IF(MTLWorksheet2!D19 = \"\",\"\",MTLWorksheet2!D19)","v":""},{"$f":"IF(MTLWorksheet2!E19 = \"\",\"\",MTLWorksheet2!E19)","v":""},{"$f":"IF(MTLWorksheet2!F19 = \"\",\"\",MTLWorksheet2!F19)","v":""},"N","","","","","","","",""]
[19,{"$f":"IF(MTLWorksheet2!B20 = \"\",\"\",MTLWorksheet2!B20)","v":""},{"$f":"IF(MTLWorksheet2!C20 = \"\",\"\",MTLWorksheet2!C20)","v":""},{"$f":"IF(MTLWorksheet2!D20 = \"\",\"\",MTLWorksheet2!D20)","v":""},{"$f":"IF(MTLWorksheet2!E20 = \"\",\"\",MTLWorksheet2!E20)","v":""},{"$f":"IF(MTLWorksheet2!F20 = \"\",\"\",MTLWorksheet2!F20)","v":""},"N","","","","","","","",""]
[20,{"$f":"IF(MTLWorksheet2!B21 = \"\",\"\",MTLWorksheet2!B21)","v":""},{"$f":"IF(MTLWorksheet2!C21 = \"\",\"\",MTLWorksheet2!C21)","v":""},{"$f":"IF(MTLWorksheet2!D21 = \"\",\"\",MTLWorksheet2!D21)","v":""},{"$f":"IF(MTLWorksheet2!E21 = \"\",\"\",MTLWorksheet2!E21)","v":""},{"$f":"IF(MTLWorksheet2!F21 = \"\",\"\",MTLWorksheet2!F21)","v":""},"N","","","","","","","",""]
[21,{"$f":"IF(MTLWorksheet2!B22 = \"\",\"\",MTLWorksheet2!B22)","v":""},{"$f":"IF(MTLWorksheet2!C22 = \"\",\"\",MTLWorksheet2!C22)","v":""},{"$f":"IF(MTLWorksheet2!D22 = \"\",\"\",MTLWorksheet2!D22)","v":""},{"$f":"IF(MTLWorksheet2!E22 = \"\",\"\",MTLWorksheet2!E22)","v":""},{"$f":"IF(MTLWorksheet2!F22 = \"\",\"\",MTLWorksheet2!F22)","v":""},"N","","","","","","","",""]
[22,{"$f":"IF(MTLWorksheet2!B23 = \"\",\"\",MTLWorksheet2!B23)","v":""},{"$f":"IF(MTLWorksheet2!C23 = \"\",\"\",MTLWorksheet2!C23)","v":""},{"$f":"IF(MTLWorksheet2!D23 = \"\",\"\",MTLWorksheet2!D23)","v":""},{"$f":"IF(MTLWorksheet2!E23 = \"\",\"\",MTLWorksheet2!E23)","v":""},{"$f":"IF(MTLWorksheet2!F23 = \"\",\"\",MTLWorksheet2!F23)","v":""},"N","","","","","","","",""]
[23,{"$f":"IF(MTLWorksheet2!B24 = \"\",\"\",MTLWorksheet2!B24)","v":""},{"$f":"IF(MTLWorksheet2!C24 = \"\",\"\",MTLWorksheet2!C24)","v":""},{"$f":"IF(MTLWorksheet2!D24 = \"\",\"\",MTLWorksheet2!D24)","v":""},{"$f":"IF(MTLWorksheet2!E24 = \"\",\"\",MTLWorksheet2!E24)","v":""},{"$f":"IF(MTLWorksheet2!F24 = \"\",\"\",MTLWorksheet2!F24)","v":""},"N","","","","","","","",""]
[24,{"$f":"IF(MTLWorksheet2!B25 = \"\",\"\",MTLWorksheet2!B25)","v":""},{"$f":"IF(MTLWorksheet2!C25 = \"\",\"\",MTLWorksheet2!C25)","v":""},{"$f":"IF(MTLWorksheet2!D25 = \"\",\"\",MTLWorksheet2!D25)","v":""},{"$f":"IF(MTLWorksheet2!E25 = \"\",\"\",MTLWorksheet2!E25)","v":""},{"$f":"IF(MTLWorksheet2!F25 = \"\",\"\",MTLWorksheet2!F25)","v":""},"N","","","","","","","",""]
[25,{"$f":"IF(MTLWorksheet2!B26 = \"\",\"\",MTLWorksheet2!B26)","v":""},{"$f":"IF(MTLWorksheet2!C26 = \"\",\"\",MTLWorksheet2!C26)","v":""},{"$f":"IF(MTLWorksheet2!D26 = \"\",\"\",MTLWorksheet2!D26)","v":""},{"$f":"IF(MTLWorksheet2!E26 = \"\",\"\",MTLWorksheet2!E26)","v":""},{"$f":"IF(MTLWorksheet2!F26 = \"\",\"\",MTLWorksheet2!F26)","v":""},"N","","","","","","","",""]
[26,{"$f":"IF(MTLWorksheet2!B27 = \"\",\"\",MTLWorksheet2!B27)","v":""},{"$f":"IF(MTLWorksheet2!C27 = \"\",\"\",MTLWorksheet2!C27)","v":""},{"$f":"IF(MTLWorksheet2!D27 = \"\",\"\",MTLWorksheet2!D27)","v":""},{"$f":"IF(MTLWorksheet2!E27 = \"\",\"\",MTLWorksheet2!E27)","v":""},{"$f":"IF(MTLWorksheet2!F27 = \"\",\"\",MTLWorksheet2!F27)","v":""},"N","","","","","","","",""]
[27,{"$f":"IF(MTLWorksheet2!B28 = \"\",\"\",MTLWorksheet2!B28)","v":""},{"$f":"IF(MTLWorksheet2!C28 = \"\",\"\",MTLWorksheet2!C28)","v":""},{"$f":"IF(MTLWorksheet2!D28 = \"\",\"\",MTLWorksheet2!D28)","v":""},{"$f":"IF(MTLWorksheet2!E28 = \"\",\"\",MTLWorksheet2!E28)","v":""},{"$f":"IF(MTLWorksheet2!F28 = \"\",\"\",MTLWorksheet2!F28)","v":""},"N","","","","","","","",""]
[28,{"$f":"IF(MTLWorksheet2!B29 = \"\",\"\",MTLWorksheet2!B29)","v":""},{"$f":"IF(MTLWorksheet2!C29 = \"\",\"\",MTLWorksheet2!C29)","v":""},{"$f":"IF(MTLWorksheet2!D29 = \"\",\"\",MTLWorksheet2!D29)","v":""},{"$f":"IF(MTLWorksheet2!E29 = \"\",\"\",MTLWorksheet2!E29)","v":""},{"$f":"IF(MTLWorksheet2!F29 = \"\",\"\",MTLWorksheet2!F29)","v":""},"N","","","","","","","",""]
[29,{"$f":"IF(MTLWorksheet2!B30 = \"\",\"\",MTLWorksheet2!B30)","v":""},{"$f":"IF(MTLWorksheet2!C30 = \"\",\"\",MTLWorksheet2!C30)","v":""},{"$f":"IF(MTLWorksheet2!D30 = \"\",\"\",MTLWorksheet2!D30)","v":""},{"$f":"IF(MTLWorksheet2!E30 = \"\",\"\",MTLWorksheet2!E30)","v":""},{"$f":"IF(MTLWorksheet2!F30 = \"\",\"\",MTLWorksheet2!F30)","v":""},"N","","","","","","","",""]
[30,{"$f":"IF(MTLWorksheet2!B31 = \"\",\"\",MTLWorksheet2!B31)","v":""},{"$f":"IF(MTLWorksheet2!C31 = \"\",\"\",MTLWorksheet2!C31)","v":""},{"$f":"IF(MTLWorksheet2!D31 = \"\",\"\",MTLWorksheet2!D31)","v":""},{"$f":"IF(MTLWorksheet2!E31 = \"\",\"\",MTLWorksheet2!E31)","v":""},{"$f":"IF(MTLWorksheet2!F31 = \"\",\"\",MTLWorksheet2!F31)","v":""},"N","","","","","","","",""]
[31,{"$f":"IF(MTLWorksheet2!B32 = \"\",\"\",MTLWorksheet2!B32)","v":""},{"$f":"IF(MTLWorksheet2!C32 = \"\",\"\",MTLWorksheet2!C32)","v":""},{"$f":"IF(MTLWorksheet2!D32 = \"\",\"\",MTLWorksheet2!D32)","v":""},{"$f":"IF(MTLWorksheet2!E32 = \"\",\"\",MTLWorksheet2!E32)","v":""},{"$f":"IF(MTLWorksheet2!F32 = \"\",\"\",MTLWorksheet2!F32)","v":""},"N","","","","","","","",""]
[32,{"$f":"IF(MTLWorksheet2!B33 = \"\",\"\",MTLWorksheet2!B33)","v":""},{"$f":"IF(MTLWorksheet2!C33 = \"\",\"\",MTLWorksheet2!C33)","v":""},{"$f":"IF(MTLWorksheet2!D33 = \"\",\"\",MTLWorksheet2!D33)","v":""},{"$f":"IF(MTLWorksheet2!E33 = \"\",\"\",MTLWorksheet2!E33)","v":""},{"$f":"IF(MTLWorksheet2!F33 = \"\",\"\",MTLWorksheet2!F33)","v":""},"N","","","","","","","",""]
[33,{"$f":"IF(MTLWorksheet2!B34 = \"\",\"\",MTLWorksheet2!B34)","v":""},{"$f":"IF(MTLWorksheet2!C34 = \"\",\"\",MTLWorksheet2!C34)","v":""},{"$f":"IF(MTLWorksheet2!D34 = \"\",\"\",MTLWorksheet2!D34)","v":""},{"$f":"IF(MTLWorksheet2!E34 = \"\",\"\",MTLWorksheet2!E34)","v":""},{"$f":"IF(MTLWorksheet2!F34 = \"\",\"\",MTLWorksheet2!F34)","v":""},{"$f":"IF(D34=\"H\",\"Y\",(IF(E34=\"H\",\"Y\",(IF(D34=\"M\",(IF(E34=\"M\",\"Y\",\"N\")),\"N\")))))","v":"N"},"","","","","","","",""]
[34,{"$f":"IF(MTLWorksheet2!B35 = \"\",\"\",MTLWorksheet2!B35)","v":""},{"$f":"IF(MTLWorksheet2!C35 = \"\",\"\",MTLWorksheet2!C35)","v":""},{"$f":"IF(MTLWorksheet2!D35 = \"\",\"\",MTLWorksheet2!D35)","v":""},{"$f":"IF(MTLWorksheet2!E35 = \"\",\"\",MTLWorksheet2!E35)","v":""},{"$f":"IF(MTLWorksheet2!F35 = \"\",\"\",MTLWorksheet2!F35)","v":""},"N","","","","","","","",""]
[35,{"$f":"IF(MTLWorksheet2!B36 = \"\",\"\",MTLWorksheet2!B36)","v":""},{"$f":"IF(MTLWorksheet2!C36 = \"\",\"\",MTLWorksheet2!C36)","v":""},{"$f":"IF(MTLWorksheet2!D36 = \"\",\"\",MTLWorksheet2!D36)","v":""},{"$f":"IF(MTLWorksheet2!E36 = \"\",\"\",MTLWorksheet2!E36)","v":""},{"$f":"IF(MTLWorksheet2!F36 = \"\",\"\",MTLWorksheet2!F36)","v":""},"N","","","","","","","",""]
[36,{"$f":"IF(MTLWorksheet2!B37 = \"\",\"\",MTLWorksheet2!B37)","v":""},{"$f":"IF(MTLWorksheet2!C37 = \"\",\"\",MTLWorksheet2!C37)","v":""},{"$f":"IF(MTLWorksheet2!D37 = \"\",\"\",MTLWorksheet2!D37)","v":""},{"$f":"IF(MTLWorksheet2!E37 = \"\",\"\",MTLWorksheet2!E37)","v":""},{"$f":"IF(MTLWorksheet2!F37 = \"\",\"\",MTLWorksheet2!F37)","v":""},"N","","","","","","","",""]
[37,{"$f":"IF(MTLWorksheet2!B38 = \"\",\"\",MTLWorksheet2!B38)","v":""},{"$f":"IF(MTLWorksheet2!C38 = \"\",\"\",MTLWorksheet2!C38)","v":""},{"$f":"IF(MTLWorksheet2!D38 = \"\",\"\",MTLWorksheet2!D38)","v":""},{"$f":"IF(MTLWorksheet2!E38 = \"\",\"\",MTLWorksheet2!E38)","v":""},{"$f":"IF(MTLWorksheet2!F38 = \"\",\"\",MTLWorksheet2!F38)","v":""},"N","","","","","","","",""]
[38,{"$f":"IF(MTLWorksheet2!B39 = \"\",\"\",MTLWorksheet2!B39)","v":""},{"$f":"IF(MTLWorksheet2!C39 = \"\",\"\",MTLWorksheet2!C39)","v":""},{"$f":"IF(MTLWorksheet2!D39 = \"\",\"\",MTLWorksheet2!D39)","v":""},{"$f":"IF(MTLWorksheet2!E39 = \"\",\"\",MTLWorksheet2!E39)","v":""},{"$f":"IF(MTLWorksheet2!F39 = \"\",\"\",MTLWorksheet2!F39)","v":""},"N","","","","","","","",""]
[39,{"$f":"IF(MTLWorksheet2!B40 = \"\",\"\",MTLWorksheet2!B40)","v":""},{"$f":"IF(MTLWorksheet2!C40 = \"\",\"\",MTLWorksheet2!C40)","v":""},{"$f":"IF(MTLWorksheet2!D40 = \"\",\"\",MTLWorksheet2!D40)","v":""},{"$f":"IF(MTLWorksheet2!E40 = \"\",\"\",MTLWorksheet2!E40)","v":""},{"$f":"IF(MTLWorksheet2!F40 = \"\",\"\",MTLWorksheet2!F40)","v":""},"N","","","","","","","",""]
[40,{"$f":"IF(MTLWorksheet2!B41 = \"\",\"\",MTLWorksheet2!B41)","v":""},{"$f":"IF(MTLWorksheet2!C41 = \"\",\"\",MTLWorksheet2!C41)","v":""},{"$f":"IF(MTLWorksheet2!D41 = \"\",\"\",MTLWorksheet2!D41)","v":""},{"$f":"IF(MTLWorksheet2!E41 = \"\",\"\",MTLWorksheet2!E41)","v":""},{"$f":"IF(MTLWorksheet2!F41 = \"\",\"\",MTLWorksheet2!F41)","v":""},"N","","","","","","","",""]
[41,{"$f":"IF(MTLWorksheet2!B42 = \"\",\"\",MTLWorksheet2!B42)","v":""},{"$f":"IF(MTLWorksheet2!C42 = \"\",\"\",MTLWorksheet2!C42)","v":""},{"$f":"IF(MTLWorksheet2!D42 = \"\",\"\",MTLWorksheet2!D42)","v":""},{"$f":"IF(MTLWorksheet2!E42 = \"\",\"\",MTLWorksheet2!E42)","v":""},{"$f":"IF(MTLWorksheet2!F42 = \"\",\"\",MTLWorksheet2!F42)","v":""},"N","","","","","","","",""]
[42,{"$f":"IF(MTLWorksheet2!B43 = \"\",\"\",MTLWorksheet2!B43)","v":""},{"$f":"IF(MTLWorksheet2!C43 = \"\",\"\",MTLWorksheet2!C43)","v":""},{"$f":"IF(MTLWorksheet2!D43 = \"\",\"\",MTLWorksheet2!D43)","v":""},{"$f":"IF(MTLWorksheet2!E43 = \"\",\"\",MTLWorksheet2!E43)","v":""},{"$f":"IF(MTLWorksheet2!F43 = \"\",\"\",MTLWorksheet2!F43)","v":""},"N","","","","","","","",""]
[43,{"$f":"IF(MTLWorksheet2!B44 = \"\",\"\",MTLWorksheet2!B44)","v":""},{"$f":"IF(MTLWorksheet2!C44 = \"\",\"\",MTLWorksheet2!C44)","v":""},{"$f":"IF(MTLWorksheet2!D44 = \"\",\"\",MTLWorksheet2!D44)","v":""},{"$f":"IF(MTLWorksheet2!E44 = \"\",\"\",MTLWorksheet2!E44)","v":""},{"$f":"IF(MTLWorksheet2!F44 = \"\",\"\",MTLWorksheet2!F44)","v":""},"N","","","","","","","",""]
[44,{"$f":"IF(MTLWorksheet2!B45 = \"\",\"\",MTLWorksheet2!B45)","v":""},{"$f":"IF(MTLWorksheet2!C45 = \"\",\"\",MTLWorksheet2!C45)","v":""},{"$f":"IF(MTLWorksheet2!D45 = \"\",\"\",MTLWorksheet2!D45)","v":""},{"$f":"IF(MTLWorksheet2!E45 = \"\",\"\",MTLWorksheet2!E45)","v":""},{"$f":"IF(MTLWorksheet2!F45 = \"\",\"\",MTLWorksheet2!F45)","v":""},"N","","","","","","","",""]
[45,{"$f":"IF(MTLWorksheet2!B46 = \"\",\"\",MTLWorksheet2!B46)","v":""},{"$f":"IF(MTLWorksheet2!C46 = \"\",\"\",MTLWorksheet2!C46)","v":""},{"$f":"IF(MTLWorksheet2!D46 = \"\",\"\",MTLWorksheet2!D46)","v":""},{"$f":"IF(MTLWorksheet2!E46 = \"\",\"\",MTLWorksheet2!E46)","v":""},{"$f":"IF(MTLWorksheet2!F46 = \"\",\"\",MTLWorksheet2!F46)","v":""},"N","","","","","","","",""]
[46,{"$f":"IF(MTLWorksheet2!B47 = \"\",\"\",MTLWorksheet2!B47)","v":""},{"$f":"IF(MTLWorksheet2!C47 = \"\",\"\",MTLWorksheet2!C47)","v":""},{"$f":"IF(MTLWorksheet2!D47 = \"\",\"\",MTLWorksheet2!D47)","v":""},{"$f":"IF(MTLWorksheet2!E47 = \"\",\"\",MTLWorksheet2!E47)","v":""},{"$f":"IF(MTLWorksheet2!F47 = \"\",\"\",MTLWorksheet2!F47)","v":""},"N","","","","","","","",""]
[47,{"$f":"IF(MTLWorksheet2!B48 = \"\",\"\",MTLWorksheet2!B48)","v":""},{"$f":"IF(MTLWorksheet2!C48 = \"\",\"\",MTLWorksheet2!C48)","v":""},{"$f":"IF(MTLWorksheet2!D48 = \"\",\"\",MTLWorksheet2!D48)","v":""},{"$f":"IF(MTLWorksheet2!E48 = \"\",\"\",MTLWorksheet2!E48)","v":""},{"$f":"IF(MTLWorksheet2!F48 = \"\",\"\",MTLWorksheet2!F48)","v":""},"N","","","","","","","",""]
[48,{"$f":"IF(MTLWorksheet2!B49 = \"\",\"\",MTLWorksheet2!B49)","v":""},{"$f":"IF(MTLWorksheet2!C49 = \"\",\"\",MTLWorksheet2!C49)","v":""},{"$f":"IF(MTLWorksheet2!D49 = \"\",\"\",MTLWorksheet2!D49)","v":""},{"$f":"IF(MTLWorksheet2!E49 = \"\",\"\",MTLWorksheet2!E49)","v":""},{"$f":"IF(MTLWorksheet2!F49 = \"\",\"\",MTLWorksheet2!F49)","v":""},"N","","","","","","","",""]
[49,{"$f":"IF(MTLWorksheet2!B50 = \"\",\"\",MTLWorksheet2!B50)","v":""},{"$f":"IF(MTLWorksheet2!C50 = \"\",\"\",MTLWorksheet2!C50)","v":""},{"$f":"IF(MTLWorksheet2!D50 = \"\",\"\",MTLWorksheet2!D50)","v":""},{"$f":"IF(MTLWorksheet2!E50 = \"\",\"\",MTLWorksheet2!E50)","v":""},{"$f":"IF(MTLWorksheet2!F50 = \"\",\"\",MTLWorksheet2!F50)","v":""},"N","","","","","","","",""]
[50,{"$f":"IF(MTLWorksheet2!B51 = \"\",\"\",MTLWorksheet2!B51)","v":""},{"$f":"IF(MTLWorksheet2!C51 = \"\",\"\",MTLWorksheet2!C51)","v":""},{"$f":"IF(MTLWorksheet2!D51 = \"\",\"\",MTLWorksheet2!D51)","v":""},{"$f":"IF(MTLWorksheet2!E51 = \"\",\"\",MTLWorksheet2!E51)","v":""},{"$f":"IF(MTLWorksheet2!F51 = \"\",\"\",MTLWorksheet2!F51)","v":""},"N","","","","","","","",""]

{"sheet":"MTLWorksheet4","index":3,"n_rows":51,"n_cols":10,"rows_kept":51,"cut":false,"hidden":false,"merged":[]}
["Task Number","Task ","Frequency","Complexity of Task","Complexity to Learn","Criticality","Training Requirements","Required Skill\n(worker)","Required Skill\n(supervisor)","Final Score*"]
[1,null,null,null,null,null,null,null,null,{"$f":"IF(H2=\"\",\"\",IF(H2<I2, I2,H2))","v":""}]
[2,null,null,null,null,null,null,null,null,{"$f":"IF(H3=\"\",\"\",IF(H3<I3, I3,H3))","v":""}]
[3,null,null,null,null,null,null,null,null,""]
[4,null,null,null,null,null,null,null,null,""]
[5,null,null,null,null,null,null,null,null,""]
[6,null,null,null,null,null,null,null,null,""]
[7,null,null,null,null,null,null,null,null,""]
[8,null,null,null,null,null,null,null,null,""]
[9,null,null,null,null,null,null,null,null,""]
[10,null,null,null,null,null,null,null,null,""]
[11,null,null,null,null,null,null,null,null,""]
[12,null,null,null,null,null,null,null,null,""]
[13,null,null,null,null,null,null,null,null,""]
[14,null,null,null,null,null,null,null,null,""]
[15,null,null,null,null,null,null,null,null,""]
[16,null,null,null,null,null,null,null,null,""]
[17,null,null,null,null,null,null,null,null,""]
[18,null,null,null,null,null,null,null,null,""]
[19,null,null,null,null,null,null,null,null,""]
[20,null,null,null,null,null,null,null,null,""]
[21,null,null,null,null,null,null,null,null,""]
[22,null,null,null,null,null,null,null,null,""]
[23,null,null,null,null,null,null,null,null,""]
[24,null,null,null,null,null,null,null,null,""]
[25,null,null,null,null,null,null,null,null,""]
[26,null,null,null,null,null,null,null,null,""]
[27,null,null,null,null,null,null,null,null,""]
[28,null,null,null,null,null,null,null,null,""]
[29,null,null,null,null,null,null,null,null,""]
[30,null,null,null,null,null,null,null,null,""]
[31,null,null,null,null,null,null,null,null,""]
[32,null,null,null,null,null,null,null,null,""]
[33,null,null,null,null,null,null,null,null,""]
[34,null,null,null,null,null,null,null,null,""]
[35,null,null,null,null,null,null,null,null,""]
[36,null,null,null,null,null,null,null,null,""]
[37,null,null,null,null,null,null,null,null,""]
[38,null,null,null,null,null,null,null,null,""]
[39,null,null,null,null,null,null,null,null,""]
[40,null,null,null,null,null,null,null,null,""]
[41,null,null,null,null,null,null,null,null,""]
[42,null,null,null,null,null,null,null,null,""]
[43,null,null,null,null,null,null,null,null,""]
[44,null,null,null,null,null,null,null,null,""]
[45,null,null,null,null,null,null,null,null,""]
[46,null,null,null,null,null,null,null,null,""]
[47,null,null,null,null,null,null,null,null,""]
[48,null,null,null,null,null,null,null,null,""]
[49,null,null,null,null,null,null,null,null,""]
[50,null,null,null,null,null,null,null,null,""]

{"sheet":"MTLWorksheet5","index":4,"n_rows":51,"n_cols":11,"rows_kept":51,"cut":false,"hidden":false,"merged":[]}
["Task Number","Task ","Frequency","Complexity of Task","Complexity to Learn","Criticality","Training Requirements","Required Skill\n(Agreed)","Current Skill\n(worker)","Current Skill\n(Supervisor)","Final Score*"]
[1,{"$f":"IF(MTLWorksheet4!B2 = \"\",\"\",MTLWorksheet4!B2)","v":""},{"$f":"IF(MTLWorksheet4!C2 = \"\",\"\",MTLWorksheet4!C2)","v":""},{"$f":"IF(MTLWorksheet4!D2 = \"\",\"\",MTLWorksheet4!D2)","v":""},{"$f":"IF(MTLWorksheet4!E2 = \"\",\"\",MTLWorksheet4!E2)","v":""},{"$f":"IF(MTLWorksheet4!F2 = \"\",\"\",MTLWorksheet4!F2)","v":""},{"$f":"IF(MTLWorksheet4!G2 = \"\",\"\",MTLWorksheet4!G2)","v":""},{"$f":"IF(MTLWorksheet4!J2 = \"\",\"\",MTLWorksheet4!J2)","v":""},null,null,{"$f":"IF(I2=\"\",\"\",IF(I2>J2, J2,I2))","v":""}]
[2,{"$f":"IF(MTLWorksheet4!B3 = \"\",\"\",MTLWorksheet4!B3)","v":""},{"$f":"IF(MTLWorksheet4!C3 = \"\",\"\",MTLWorksheet4!C3)","v":""},{"$f":"IF(MTLWorksheet4!D3 = \"\",\"\",MTLWorksheet4!D3)","v":""},{"$f":"IF(MTLWorksheet4!E3 = \"\",\"\",MTLWorksheet4!E3)","v":""},{"$f":"IF(MTLWorksheet4!F3 = \"\",\"\",MTLWorksheet4!F3)","v":""},{"$f":"IF(MTLWorksheet4!G3 = \"\",\"\",MTLWorksheet4!G3)","v":""},{"$f":"IF(MTLWorksheet4!J3 = \"\",\"\",MTLWorksheet4!J3)","v":""},null,null,{"$f":"IF(I3=\"\",\"\",IF(I3>J3, J3,I3))","v":""}]
[3,{"$f":"IF(MTLWorksheet4!B4 = \"\",\"\",MTLWorksheet4!B4)","v":""},{"$f":"IF(MTLWorksheet4!C4 = \"\",\"\",MTLWorksheet4!C4)","v":""},{"$f":"IF(MTLWorksheet4!D4 = \"\",\"\",MTLWorksheet4!D4)","v":""},{"$f":"IF(MTLWorksheet4!E4 = \"\",\"\",MTLWorksheet4!E4)","v":""},{"$f":"IF(MTLWorksheet4!F4 = \"\",\"\",MTLWorksheet4!F4)","v":""},{"$f":"IF(MTLWorksheet4!G4 = \"\",\"\",MTLWorksheet4!G4)","v":""},{"$f":"IF(MTLWorksheet4!J4 = \"\",\"\",MTLWorksheet4!J4)","v":""},null,null,""]
[4,{"$f":"IF(MTLWorksheet4!B5 = \"\",\"\",MTLWorksheet4!B5)","v":""},{"$f":"IF(MTLWorksheet4!C5 = \"\",\"\",MTLWorksheet4!C5)","v":""},{"$f":"IF(MTLWorksheet4!D5 = \"\",\"\",MTLWorksheet4!D5)","v":""},{"$f":"IF(MTLWorksheet4!E5 = \"\",\"\",MTLWorksheet4!E5)","v":""},{"$f":"IF(MTLWorksheet4!F5 = \"\",\"\",MTLWorksheet4!F5)","v":""},{"$f":"IF(MTLWorksheet4!G5 = \"\",\"\",MTLWorksheet4!G5)","v":""},{"$f":"IF(MTLWorksheet4!J5 = \"\",\"\",MTLWorksheet4!J5)","v":""},null,null,""]
[5,{"$f":"IF(MTLWorksheet4!B6 = \"\",\"\",MTLWorksheet4!B6)","v":""},{"$f":"IF(MTLWorksheet4!C6 = \"\",\"\",MTLWorksheet4!C6)","v":""},{"$f":"IF(MTLWorksheet4!D6 = \"\",\"\",MTLWorksheet4!D6)","v":""},{"$f":"IF(MTLWorksheet4!E6 = \"\",\"\",MTLWorksheet4!E6)","v":""},{"$f":"IF(MTLWorksheet4!F6 = \"\",\"\",MTLWorksheet4!F6)","v":""},{"$f":"IF(MTLWorksheet4!G6 = \"\",\"\",MTLWorksheet4!G6)","v":""},{"$f":"IF(MTLWorksheet4!J6 = \"\",\"\",MTLWorksheet4!J6)","v":""},null,null,""]
[6,{"$f":"IF(MTLWorksheet4!B7 = \"\",\"\",MTLWorksheet4!B7)","v":""},{"$f":"IF(MTLWorksheet4!C7 = \"\",\"\",MTLWorksheet4!C7)","v":""},{"$f":"IF(MTLWorksheet4!D7 = \"\",\"\",MTLWorksheet4!D7)","v":""},{"$f":"IF(MTLWorksheet4!E7 = \"\",\"\",MTLWorksheet4!E7)","v":""},{"$f":"IF(MTLWorksheet4!F7 = \"\",\"\",MTLWorksheet4!F7)","v":""},{"$f":"IF(MTLWorksheet4!G7 = \"\",\"\",MTLWorksheet4!G7)","v":""},{"$f":"IF(MTLWorksheet4!J7 = \"\",\"\",MTLWorksheet4!J7)","v":""},null,null,""]
[7,{"$f":"IF(MTLWorksheet4!B8 = \"\",\"\",MTLWorksheet4!B8)","v":""},{"$f":"IF(MTLWorksheet4!C8 = \"\",\"\",MTLWorksheet4!C8)","v":""},{"$f":"IF(MTLWorksheet4!D8 = \"\",\"\",MTLWorksheet4!D8)","v":""},{"$f":"IF(MTLWorksheet4!E8 = \"\",\"\",MTLWorksheet4!E8)","v":""},{"$f":"IF(MTLWorksheet4!F8 = \"\",\"\",MTLWorksheet4!F8)","v":""},{"$f":"IF(MTLWorksheet4!G8 = \"\",\"\",MTLWorksheet4!G8)","v":""},{"$f":"IF(MTLWorksheet4!J8 = \"\",\"\",MTLWorksheet4!J8)","v":""},null,null,""]
[8,{"$f":"IF(MTLWorksheet4!B9 = \"\",\"\",MTLWorksheet4!B9)","v":""},{"$f":"IF(MTLWorksheet4!C9 = \"\",\"\",MTLWorksheet4!C9)","v":""},{"$f":"IF(MTLWorksheet4!D9 = \"\",\"\",MTLWorksheet4!D9)","v":""},{"$f":"IF(MTLWorksheet4!E9 = \"\",\"\",MTLWorksheet4!E9)","v":""},{"$f":"IF(MTLWorksheet4!F9 = \"\",\"\",MTLWorksheet4!F9)","v":""},{"$f":"IF(MTLWorksheet4!G9 = \"\",\"\",MTLWorksheet4!G9)","v":""},{"$f":"IF(MTLWorksheet4!J9 = \"\",\"\",MTLWorksheet4!J9)","v":""},null,null,""]
[9,{"$f":"IF(MTLWorksheet4!B10 = \"\",\"\",MTLWorksheet4!B10)","v":""},{"$f":"IF(MTLWorksheet4!C10 = \"\",\"\",MTLWorksheet4!C10)","v":""},{"$f":"IF(MTLWorksheet4!D10 = \"\",\"\",MTLWorksheet4!D10)","v":""},{"$f":"IF(MTLWorksheet4!E10 = \"\",\"\",MTLWorksheet4!E10)","v":""},{"$f":"IF(MTLWorksheet4!F10 = \"\",\"\",MTLWorksheet4!F10)","v":""},{"$f":"IF(MTLWorksheet4!G10 = \"\",\"\",MTLWorksheet4!G10)","v":""},{"$f":"IF(MTLWorksheet4!J10 = \"\",\"\",MTLWorksheet4!J10)","v":""},null,null,""]
[10,{"$f":"IF(MTLWorksheet4!B11 = \"\",\"\",MTLWorksheet4!B11)","v":""},{"$f":"IF(MTLWorksheet4!C11 = \"\",\"\",MTLWorksheet4!C11)","v":""},{"$f":"IF(MTLWorksheet4!D11 = \"\",\"\",MTLWorksheet4!D11)","v":""},{"$f":"IF(MTLWorksheet4!E11 = \"\",\"\",MTLWorksheet4!E11)","v":""},{"$f":"IF(MTLWorksheet4!F11 = \"\",\"\",MTLWorksheet4!F11)","v":""},{"$f":"IF(MTLWorksheet4!G11 = \"\",\"\",MTLWorksheet4!G11)","v":""},{"$f":"IF(MTLWorksheet4!J11 = \"\",\"\",MTLWorksheet4!J11)","v":""},null,null,""]
[11,{"$f":"IF(MTLWorksheet4!B12 = \"\",\"\",MTLWorksheet4!B12)","v":""},{"$f":"IF(MTLWorksheet4!C12 = \"\",\"\",MTLWorksheet4!C12)","v":""},{"$f":"IF(MTLWorksheet4!D12 = \"\",\"\",MTLWorksheet4!D12)","v":""},{"$f":"IF(MTLWorksheet4!E12 = \"\",\"\",MTLWorksheet4!E12)","v":""},{"$f":"IF(MTLWorksheet4!F12 = \"\",\"\",MTLWorksheet4!F12)","v":""},{"$f":"IF(MTLWorksheet4!G12 = \"\",\"\",MTLWorksheet4!G12)","v":""},{"$f":"IF(MTLWorksheet4!J12 = \"\",\"\",MTLWorksheet4!J12)","v":""},null,null,""]
[12,{"$f":"IF(MTLWorksheet4!B13 = \"\",\"\",MTLWorksheet4!B13)","v":""},{"$f":"IF(MTLWorksheet4!C13 = \"\",\"\",MTLWorksheet4!C13)","v":""},{"$f":"IF(MTLWorksheet4!D13 = \"\",\"\",MTLWorksheet4!D13)","v":""},{"$f":"IF(MTLWorksheet4!E13 = \"\",\"\",MTLWorksheet4!E13)","v":""},{"$f":"IF(MTLWorksheet4!F13 = \"\",\"\",MTLWorksheet4!F13)","v":""},{"$f":"IF(MTLWorksheet4!G13 = \"\",\"\",MTLWorksheet4!G13)","v":""},{"$f":"IF(MTLWorksheet4!J13 = \"\",\"\",MTLWorksheet4!J13)","v":""},null,null,""]
[13,{"$f":"IF(MTLWorksheet4!B14 = \"\",\"\",MTLWorksheet4!B14)","v":""},{"$f":"IF(MTLWorksheet4!C14 = \"\",\"\",MTLWorksheet4!C14)","v":""},{"$f":"IF(MTLWorksheet4!D14 = \"\",\"\",MTLWorksheet4!D14)","v":""},{"$f":"IF(MTLWorksheet4!E14 = \"\",\"\",MTLWorksheet4!E14)","v":""},{"$f":"IF(MTLWorksheet4!F14 = \"\",\"\",MTLWorksheet4!F14)","v":""},{"$f":"IF(MTLWorksheet4!G14 = \"\",\"\",MTLWorksheet4!G14)","v":""},{"$f":"IF(MTLWorksheet4!J14 = \"\",\"\",MTLWorksheet4!J14)","v":""},null,null,""]
[14,{"$f":"IF(MTLWorksheet4!B15 = \"\",\"\",MTLWorksheet4!B15)","v":""},{"$f":"IF(MTLWorksheet4!C15 = \"\",\"\",MTLWorksheet4!C15)","v":""},{"$f":"IF(MTLWorksheet4!D15 = \"\",\"\",MTLWorksheet4!D15)","v":""},{"$f":"IF(MTLWorksheet4!E15 = \"\",\"\",MTLWorksheet4!E15)","v":""},{"$f":"IF(MTLWorksheet4!F15 = \"\",\"\",MTLWorksheet4!F15)","v":""},{"$f":"IF(MTLWorksheet4!G15 = \"\",\"\",MTLWorksheet4!G15)","v":""},{"$f":"IF(MTLWorksheet4!J15 = \"\",\"\",MTLWorksheet4!J15)","v":""},null,null,""]
[15,{"$f":"IF(MTLWorksheet4!B16 = \"\",\"\",MTLWorksheet4!B16)","v":""},{"$f":"IF(MTLWorksheet4!C16 = \"\",\"\",MTLWorksheet4!C16)","v":""},{"$f":"IF(MTLWorksheet4!D16 = \"\",\"\",MTLWorksheet4!D16)","v":""},{"$f":"IF(MTLWorksheet4!E16 = \"\",\"\",MTLWorksheet4!E16)","v":""},{"$f":"IF(MTLWorksheet4!F16 = \"\",\"\",MTLWorksheet4!F16)","v":""},{"$f":"IF(MTLWorksheet4!G16 = \"\",\"\",MTLWorksheet4!G16)","v":""},{"$f":"IF(MTLWorksheet4!J16 = \"\",\"\",MTLWorksheet4!J16)","v":""},null,null,""]
[16,{"$f":"IF(MTLWorksheet4!B17 = \"\",\"\",MTLWorksheet4!B17)","v":""},{"$f":"IF(MTLWorksheet4!C17 = \"\",\"\",MTLWorksheet4!C17)","v":""},{"$f":"IF(MTLWorksheet4!D17 = \"\",\"\",MTLWorksheet4!D17)","v":""},{"$f":"IF(MTLWorksheet4!E17 = \"\",\"\",MTLWorksheet4!E17)","v":""},{"$f":"IF(MTLWorksheet4!F17 = \"\",\"\",MTLWorksheet4!F17)","v":""},{"$f":"IF(MTLWorksheet4!G17 = \"\",\"\",MTLWorksheet4!G17)","v":""},{"$f":"IF(MTLWorksheet4!J17 = \"\",\"\",MTLWorksheet4!J17)","v":""},null,null,""]
[17,{"$f":"IF(MTLWorksheet4!B18 = \"\",\"\",MTLWorksheet4!B18)","v":""},{"$f":"IF(MTLWorksheet4!C18 = \"\",\"\",MTLWorksheet4!C18)","v":""},{"$f":"IF(MTLWorksheet4!D18 = \"\",\"\",MTLWorksheet4!D18)","v":""},{"$f":"IF(MTLWorksheet4!E18 = \"\",\"\",MTLWorksheet4!E18)","v":""},{"$f":"IF(MTLWorksheet4!F18 = \"\",\"\",MTLWorksheet4!F18)","v":""},{"$f":"IF(MTLWorksheet4!G18 = \"\",\"\",MTLWorksheet4!G18)","v":""},{"$f":"IF(MTLWorksheet4!J18 = \"\",\"\",MTLWorksheet4!J18)","v":""},null,null,""]
[18,{"$f":"IF(MTLWorksheet4!B19 = \"\",\"\",MTLWorksheet4!B19)","v":""},{"$f":"IF(MTLWorksheet4!C19 = \"\",\"\",MTLWorksheet4!C19)","v":""},{"$f":"IF(MTLWorksheet4!D19 = \"\",\"\",MTLWorksheet4!D19)","v":""},{"$f":"IF(MTLWorksheet4!E19 = \"\",\"\",MTLWorksheet4!E19)","v":""},{"$f":"IF(MTLWorksheet4!F19 = \"\",\"\",MTLWorksheet4!F19)","v":""},{"$f":"IF(MTLWorksheet4!G19 = \"\",\"\",MTLWorksheet4!G19)","v":""},{"$f":"IF(MTLWorksheet4!J19 = \"\",\"\",MTLWorksheet4!J19)","v":""},null,null,""]
[19,{"$f":"IF(MTLWorksheet4!B20 = \"\",\"\",MTLWorksheet4!B20)","v":""},{"$f":"IF(MTLWorksheet4!C20 = \"\",\"\",MTLWorksheet4!C20)","v":""},{"$f":"IF(MTLWorksheet4!D20 = \"\",\"\",MTLWorksheet4!D20)","v":""},{"$f":"IF(MTLWorksheet4!E20 = \"\",\"\",MTLWorksheet4!E20)","v":""},{"$f":"IF(MTLWorksheet4!F20 = \"\",\"\",MTLWorksheet4!F20)","v":""},{"$f":"IF(MTLWorksheet4!G20 = \"\",\"\",MTLWorksheet4!G20)","v":""},{"$f":"IF(MTLWorksheet4!J20 = \"\",\"\",MTLWorksheet4!J20)","v":""},null,null,""]
[20,{"$f":"IF(MTLWorksheet4!B21 = \"\",\"\",MTLWorksheet4!B21)","v":""},{"$f":"IF(MTLWorksheet4!C21 = \"\",\"\",MTLWorksheet4!C21)","v":""},{"$f":"IF(MTLWorksheet4!D21 = \"\",\"\",MTLWorksheet4!D21)","v":""},{"$f":"IF(MTLWorksheet4!E21 = \"\",\"\",MTLWorksheet4!E21)","v":""},{"$f":"IF(MTLWorksheet4!F21 = \"\",\"\",MTLWorksheet4!F21)","v":""},{"$f":"IF(MTLWorksheet4!G21 = \"\",\"\",MTLWorksheet4!G21)","v":""},{"$f":"IF(MTLWorksheet4!J21 = \"\",\"\",MTLWorksheet4!J21)","v":""},null,null,""]
[21,{"$f":"IF(MTLWorksheet4!B22 = \"\",\"\",MTLWorksheet4!B22)","v":""},{"$f":"IF(MTLWorksheet4!C22 = \"\",\"\",MTLWorksheet4!C22)","v":""},{"$f":"IF(MTLWorksheet4!D22 = \"\",\"\",MTLWorksheet4!D22)","v":""},{"$f":"IF(MTLWorksheet4!E22 = \"\",\"\",MTLWorksheet4!E22)","v":""},{"$f":"IF(MTLWorksheet4!F22 = \"\",\"\",MTLWorksheet4!F22)","v":""},{"$f":"IF(MTLWorksheet4!G22 = \"\",\"\",MTLWorksheet4!G22)","v":""},{"$f":"IF(MTLWorksheet4!J22 = \"\",\"\",MTLWorksheet4!J22)","v":""},null,null,""]
[22,{"$f":"IF(MTLWorksheet4!B23 = \"\",\"\",MTLWorksheet4!B23)","v":""},{"$f":"IF(MTLWorksheet4!C23 = \"\",\"\",MTLWorksheet4!C23)","v":""},{"$f":"IF(MTLWorksheet4!D23 = \"\",\"\",MTLWorksheet4!D23)","v":""},{"$f":"IF(MTLWorksheet4!E23 = \"\",\"\",MTLWorksheet4!E23)","v":""},{"$f":"IF(MTLWorksheet4!F23 = \"\",\"\",MTLWorksheet4!F23)","v":""},{"$f":"IF(MTLWorksheet4!G23 = \"\",\"\",MTLWorksheet4!G23)","v":""},{"$f":"IF(MTLWorksheet4!J23 = \"\",\"\",MTLWorksheet4!J23)","v":""},null,null,""]
[23,{"$f":"IF(MTLWorksheet4!B24 = \"\",\"\",MTLWorksheet4!B24)","v":""},{"$f":"IF(MTLWorksheet4!C24 = \"\",\"\",MTLWorksheet4!C24)","v":""},{"$f":"IF(MTLWorksheet4!D24 = \"\",\"\",MTLWorksheet4!D24)","v":""},{"$f":"IF(MTLWorksheet4!E24 = \"\",\"\",MTLWorksheet4!E24)","v":""},{"$f":"IF(MTLWorksheet4!F24 = \"\",\"\",MTLWorksheet4!F24)","v":""},{"$f":"IF(MTLWorksheet4!G24 = \"\",\"\",MTLWorksheet4!G24)","v":""},{"$f":"IF(MTLWorksheet4!J24 = \"\",\"\",MTLWorksheet4!J24)","v":""},null,null,""]
[24,{"$f":"IF(MTLWorksheet4!B25 = \"\",\"\",MTLWorksheet4!B25)","v":""},{"$f":"IF(MTLWorksheet4!C25 = \"\",\"\",MTLWorksheet4!C25)","v":""},{"$f":"IF(MTLWorksheet4!D25 = \"\",\"\",MTLWorksheet4!D25)","v":""},{"$f":"IF(MTLWorksheet4!E25 = \"\",\"\",MTLWorksheet4!E25)","v":""},{"$f":"IF(MTLWorksheet4!F25 = \"\",\"\",MTLWorksheet4!F25)","v":""},{"$f":"IF(MTLWorksheet4!G25 = \"\",\"\",MTLWorksheet4!G25)","v":""},{"$f":"IF(MTLWorksheet4!J25 = \"\",\"\",MTLWorksheet4!J25)","v":""},null,null,""]
[25,{"$f":"IF(MTLWorksheet4!B26 = \"\",\"\",MTLWorksheet4!B26)","v":""},{"$f":"IF(MTLWorksheet4!C26 = \"\",\"\",MTLWorksheet4!C26)","v":""},{"$f":"IF(MTLWorksheet4!D26 = \"\",\"\",MTLWorksheet4!D26)","v":""},{"$f":"IF(MTLWorksheet4!E26 = \"\",\"\",MTLWorksheet4!E26)","v":""},{"$f":"IF(MTLWorksheet4!F26 = \"\",\"\",MTLWorksheet4!F26)","v":""},{"$f":"IF(MTLWorksheet4!G26 = \"\",\"\",MTLWorksheet4!G26)","v":""},{"$f":"IF(MTLWorksheet4!J26 = \"\",\"\",MTLWorksheet4!J26)","v":""},null,null,""]
[26,{"$f":"IF(MTLWorksheet4!B27 = \"\",\"\",MTLWorksheet4!B27)","v":""},{"$f":"IF(MTLWorksheet4!C27 = \"\",\"\",MTLWorksheet4!C27)","v":""},{"$f":"IF(MTLWorksheet4!D27 = \"\",\"\",MTLWorksheet4!D27)","v":""},{"$f":"IF(MTLWorksheet4!E27 = \"\",\"\",MTLWorksheet4!E27)","v":""},{"$f":"IF(MTLWorksheet4!F27 = \"\",\"\",MTLWorksheet4!F27)","v":""},{"$f":"IF(MTLWorksheet4!G27 = \"\",\"\",MTLWorksheet4!G27)","v":""},{"$f":"IF(MTLWorksheet4!J27 = \"\",\"\",MTLWorksheet4!J27)","v":""},null,null,""]
[27,{"$f":"IF(MTLWorksheet4!B28 = \"\",\"\",MTLWorksheet4!B28)","v":""},{"$f":"IF(MTLWorksheet4!C28 = \"\",\"\",MTLWorksheet4!C28)","v":""},{"$f":"IF(MTLWorksheet4!D28 = \"\",\"\",MTLWorksheet4!D28)","v":""},{"$f":"IF(MTLWorksheet4!E28 = \"\",\"\",MTLWorksheet4!E28)","v":""},{"$f":"IF(MTLWorksheet4!F28 = \"\",\"\",MTLWorksheet4!F28)","v":""},{"$f":"IF(MTLWorksheet4!G28 = \"\",\"\",MTLWorksheet4!G28)","v":""},{"$f":"IF(MTLWorksheet4!J28 = \"\",\"\",MTLWorksheet4!J28)","v":""},null,null,""]
[28,{"$f":"IF(MTLWorksheet4!B29 = \"\",\"\",MTLWorksheet4!B29)","v":""},{"$f":"IF(MTLWorksheet4!C29 = \"\",\"\",MTLWorksheet4!C29)","v":""},{"$f":"IF(MTLWorksheet4!D29 = \"\",\"\",MTLWorksheet4!D29)","v":""},{"$f":"IF(MTLWorksheet4!E29 = \"\",\"\",MTLWorksheet4!E29)","v":""},{"$f":"IF(MTLWorksheet4!F29 = \"\",\"\",MTLWorksheet4!F29)","v":""},{"$f":"IF(MTLWorksheet4!G29 = \"\",\"\",MTLWorksheet4!G29)","v":""},{"$f":"IF(MTLWorksheet4!J29 = \"\",\"\",MTLWorksheet4!J29)","v":""},null,null,""]
[29,{"$f":"IF(MTLWorksheet4!B30 = \"\",\"\",MTLWorksheet4!B30)","v":""},{"$f":"IF(MTLWorksheet4!C30 = \"\",\"\",MTLWorksheet4!C30)","v":""},{"$f":"IF(MTLWorksheet4!D30 = \"\",\"\",MTLWorksheet4!D30)","v":""},{"$f":"IF(MTLWorksheet4!E30 = \"\",\"\",MTLWorksheet4!E30)","v":""},{"$f":"IF(MTLWorksheet4!F30 = \"\",\"\",MTLWorksheet4!F30)","v":""},{"$f":"IF(MTLWorksheet4!G30 = \"\",\"\",MTLWorksheet4!G30)","v":""},{"$f":"IF(MTLWorksheet4!J30 = \"\",\"\",MTLWorksheet4!J30)","v":""},null,null,""]
[30,{"$f":"IF(MTLWorksheet4!B31 = \"\",\"\",MTLWorksheet4!B31)","v":""},{"$f":"IF(MTLWorksheet4!C31 = \"\",\"\",MTLWorksheet4!C31)","v":""},{"$f":"IF(MTLWorksheet4!D31 = \"\",\"\",MTLWorksheet4!D31)","v":""},{"$f":"IF(MTLWorksheet4!E31 = \"\",\"\",MTLWorksheet4!E31)","v":""},{"$f":"IF(MTLWorksheet4!F31 = \"\",\"\",MTLWorksheet4!F31)","v":""},{"$f":"IF(MTLWorksheet4!G31 = \"\",\"\",MTLWorksheet4!G31)","v":""},{"$f":"IF(MTLWorksheet4!J31 = \"\",\"\",MTLWorksheet4!J31)","v":""},null,null,""]
[31,{"$f":"IF(MTLWorksheet4!B32 = \"\",\"\",MTLWorksheet4!B32)","v":""},{"$f":"IF(MTLWorksheet4!C32 = \"\",\"\",MTLWorksheet4!C32)","v":""},{"$f":"IF(MTLWorksheet4!D32 = \"\",\"\",MTLWorksheet4!D32)","v":""},{"$f":"IF(MTLWorksheet4!E32 = \"\",\"\",MTLWorksheet4!E32)","v":""},{"$f":"IF(MTLWorksheet4!F32 = \"\",\"\",MTLWorksheet4!F32)","v":""},{"$f":"IF(MTLWorksheet4!G32 = \"\",\"\",MTLWorksheet4!G32)","v":""},{"$f":"IF(MTLWorksheet4!J32 = \"\",\"\",MTLWorksheet4!J32)","v":""},null,null,""]
[32,{"$f":"IF(MTLWorksheet4!B33 = \"\",\"\",MTLWorksheet4!B33)","v":""},{"$f":"IF(MTLWorksheet4!C33 = \"\",\"\",MTLWorksheet4!C33)","v":""},{"$f":"IF(MTLWorksheet4!D33 = \"\",\"\",MTLWorksheet4!D33)","v":""},{"$f":"IF(MTLWorksheet4!E33 = \"\",\"\",MTLWorksheet4!E33)","v":""},{"$f":"IF(MTLWorksheet4!F33 = \"\",\"\",MTLWorksheet4!F33)","v":""},{"$f":"IF(MTLWorksheet4!G33 = \"\",\"\",MTLWorksheet4!G33)","v":""},{"$f":"IF(MTLWorksheet4!J33 = \"\",\"\",MTLWorksheet4!J33)","v":""},null,null,""]
[33,{"$f":"IF(MTLWorksheet4!B34 = \"\",\"\",MTLWorksheet4!B34)","v":""},{"$f":"IF(MTLWorksheet4!C34 = \"\",\"\",MTLWorksheet4!C34)","v":""},{"$f":"IF(MTLWorksheet4!D34 = \"\",\"\",MTLWorksheet4!D34)","v":""},{"$f":"IF(MTLWorksheet4!E34 = \"\",\"\",MTLWorksheet4!E34)","v":""},{"$f":"IF(MTLWorksheet4!F34 = \"\",\"\",MTLWorksheet4!F34)","v":""},{"$f":"IF(MTLWorksheet4!G34 = \"\",\"\",MTLWorksheet4!G34)","v":""},{"$f":"IF(MTLWorksheet4!J34 = \"\",\"\",MTLWorksheet4!J34)","v":""},null,null,""]
[34,{"$f":"IF(MTLWorksheet4!B35 = \"\",\"\",MTLWorksheet4!B35)","v":""},{"$f":"IF(MTLWorksheet4!C35 = \"\",\"\",MTLWorksheet4!C35)","v":""},{"$f":"IF(MTLWorksheet4!D35 = \"\",\"\",MTLWorksheet4!D35)","v":""},{"$f":"IF(MTLWorksheet4!E35 = \"\",\"\",MTLWorksheet4!E35)","v":""},{"$f":"IF(MTLWorksheet4!F35 = \"\",\"\",MTLWorksheet4!F35)","v":""},{"$f":"IF(MTLWorksheet4!G35 = \"\",\"\",MTLWorksheet4!G35)","v":""},{"$f":"IF(MTLWorksheet4!J35 = \"\",\"\",MTLWorksheet4!J35)","v":""},null,null,""]
[35,{"$f":"IF(MTLWorksheet4!B36 = \"\",\"\",MTLWorksheet4!B36)","v":""},{"$f":"IF(MTLWorksheet4!C36 = \"\",\"\",MTLWorksheet4!C36)","v":""},{"$f":"IF(MTLWorksheet4!D36 = \"\",\"\",MTLWorksheet4!D36)","v":""},{"$f":"IF(MTLWorksheet4!E36 = \"\",\"\",MTLWorksheet4!E36)","v":""},{"$f":"IF(MTLWorksheet4!F36 = \"\",\"\",MTLWorksheet4!F36)","v":""},{"$f":"IF(MTLWorksheet4!G36 = \"\",\"\",MTLWorksheet4!G36)","v":""},{"$f":"IF(MTLWorksheet4!J36 = \"\",\"\",MTLWorksheet4!J36)","v":""},null,null,""]
[36,{"$f":"IF(MTLWorksheet4!B37 = \"\",\"\",MTLWorksheet4!B37)","v":""},{"$f":"IF(MTLWorksheet4!C37 = \"\",\"\",MTLWorksheet4!C37)","v":""},{"$f":"IF(MTLWorksheet4!D37 = \"\",\"\",MTLWorksheet4!D37)","v":""},{"$f":"IF(MTLWorksheet4!E37 = \"\",\"\",MTLWorksheet4!E37)","v":""},{"$f":"IF(MTLWorksheet4!F37 = \"\",\"\",MTLWorksheet4!F37)","v":""},{"$f":"IF(MTLWorksheet4!G37 = \"\",\"\",MTLWorksheet4!G37)","v":""},{"$f":"IF(MTLWorksheet4!J37 = \"\",\"\",MTLWorksheet4!J37)","v":""},null,null,""]
[37,{"$f":"IF(MTLWorksheet4!B38 = \"\",\"\",MTLWorksheet4!B38)","v":""},{"$f":"IF(MTLWorksheet4!C38 = \"\",\"\",MTLWorksheet4!C38)","v":""},{"$f":"IF(MTLWorksheet4!D38 = \"\",\"\",MTLWorksheet4!D38)","v":""},{"$f":"IF(MTLWorksheet4!E38 = \"\",\"\",MTLWorksheet4!E38)","v":""},{"$f":"IF(MTLWorksheet4!F38 = \"\",\"\",MTLWorksheet4!F38)","v":""},{"$f":"IF(MTLWorksheet4!G38 = \"\",\"\",MTLWorksheet4!G38)","v":""},{"$f":"IF(MTLWorksheet4!J38 = \"\",\"\",MTLWorksheet4!J38)","v":""},null,null,""]
[38,{"$f":"IF(MTLWorksheet4!B39 = \"\",\"\",MTLWorksheet4!B39)","v":""},{"$f":"IF(MTLWorksheet4!C39 = \"\",\"\",MTLWorksheet4!C39)","v":""},{"$f":"IF(MTLWorksheet4!D39 = \"\",\"\",MTLWorksheet4!D39)","v":""},{"$f":"IF(MTLWorksheet4!E39 = \"\",\"\",MTLWorksheet4!E39)","v":""},{"$f":"IF(MTLWorksheet4!F39 = \"\",\"\",MTLWorksheet4!F39)","v":""},{"$f":"IF(MTLWorksheet4!G39 = \"\",\"\",MTLWorksheet4!G39)","v":""},{"$f":"IF(MTLWorksheet4!J39 = \"\",\"\",MTLWorksheet4!J39)","v":""},null,null,""]
[39,{"$f":"IF(MTLWorksheet4!B40 = \"\",\"\",MTLWorksheet4!B40)","v":""},{"$f":"IF(MTLWorksheet4!C40 = \"\",\"\",MTLWorksheet4!C40)","v":""},{"$f":"IF(MTLWorksheet4!D40 = \"\",\"\",MTLWorksheet4!D40)","v":""},{"$f":"IF(MTLWorksheet4!E40 = \"\",\"\",MTLWorksheet4!E40)","v":""},{"$f":"IF(MTLWorksheet4!F40 = \"\",\"\",MTLWorksheet4!F40)","v":""},{"$f":"IF(MTLWorksheet4!G40 = \"\",\"\",MTLWorksheet4!G40)","v":""},{"$f":"IF(MTLWorksheet4!J40 = \"\",\"\",MTLWorksheet4!J40)","v":""},null,null,""]
[40,{"$f":"IF(MTLWorksheet4!B41 = \"\",\"\",MTLWorksheet4!B41)","v":""},{"$f":"IF(MTLWorksheet4!C41 = \"\",\"\",MTLWorksheet4!C41)","v":""},{"$f":"IF(MTLWorksheet4!D41 = \"\",\"\",MTLWorksheet4!D41)","v":""},{"$f":"IF(MTLWorksheet4!E41 = \"\",\"\",MTLWorksheet4!E41)","v":""},{"$f":"IF(MTLWorksheet4!F41 = \"\",\"\",MTLWorksheet4!F41)","v":""},{"$f":"IF(MTLWorksheet4!G41 = \"\",\"\",MTLWorksheet4!G41)","v":""},{"$f":"IF(MTLWorksheet4!J41 = \"\",\"\",MTLWorksheet4!J41)","v":""},null,null,""]
[41,{"$f":"IF(MTLWorksheet4!B42 = \"\",\"\",MTLWorksheet4!B42)","v":""},{"$f":"IF(MTLWorksheet4!C42 = \"\",\"\",MTLWorksheet4!C42)","v":""},{"$f":"IF(MTLWorksheet4!D42 = \"\",\"\",MTLWorksheet4!D42)","v":""},{"$f":"IF(MTLWorksheet4!E42 = \"\",\"\",MTLWorksheet4!E42)","v":""},{"$f":"IF(MTLWorksheet4!F42 = \"\",\"\",MTLWorksheet4!F42)","v":""},{"$f":"IF(MTLWorksheet4!G42 = \"\",\"\",MTLWorksheet4!G42)","v":""},{"$f":"IF(MTLWorksheet4!J42 = \"\",\"\",MTLWorksheet4!J42)","v":""},null,null,""]
[42,{"$f":"IF(MTLWorksheet4!B43 = \"\",\"\",MTLWorksheet4!B43)","v":""},{"$f":"IF(MTLWorksheet4!C43 = \"\",\"\",MTLWorksheet4!C43)","v":""},{"$f":"IF(MTLWorksheet4!D43 = \"\",\"\",MTLWorksheet4!D43)","v":""},{"$f":"IF(MTLWorksheet4!E43 = \"\",\"\",MTLWorksheet4!E43)","v":""},{"$f":"IF(MTLWorksheet4!F43 = \"\",\"\",MTLWorksheet4!F43)","v":""},{"$f":"IF(MTLWorksheet4!G43 = \"\",\"\",MTLWorksheet4!G43)","v":""},{"$f":"IF(MTLWorksheet4!J43 = \"\",\"\",MTLWorksheet4!J43)","v":""},null,null,""]
[43,{"$f":"IF(MTLWorksheet4!B44 = \"\",\"\",MTLWorksheet4!B44)","v":""},{"$f":"IF(MTLWorksheet4!C44 = \"\",\"\",MTLWorksheet4!C44)","v":""},{"$f":"IF(MTLWorksheet4!D44 = \"\",\"\",MTLWorksheet4!D44)","v":""},{"$f":"IF(MTLWorksheet4!E44 = \"\",\"\",MTLWorksheet4!E44)","v":""},{"$f":"IF(MTLWorksheet4!F44 = \"\",\"\",MTLWorksheet4!F44)","v":""},{"$f":"IF(MTLWorksheet4!G44 = \"\",\"\",MTLWorksheet4!G44)","v":""},{"$f":"IF(MTLWorksheet4!J44 = \"\",\"\",MTLWorksheet4!J44)","v":""},null,null,""]
[44,{"$f":"IF(MTLWorksheet4!B45 = \"\",\"\",MTLWorksheet4!B45)","v":""},{"$f":"IF(MTLWorksheet4!C45 = \"\",\"\",MTLWorksheet4!C45)","v":""},{"$f":"IF(MTLWorksheet4!D45 = \"\",\"\",MTLWorksheet4!D45)","v":""},{"$f":"IF(MTLWorksheet4!E45 = \"\",\"\",MTLWorksheet4!E45)","v":""},{"$f":"IF(MTLWorksheet4!F45 = \"\",\"\",MTLWorksheet4!F45)","v":""},{"$f":"IF(MTLWorksheet4!G45 = \"\",\"\",MTLWorksheet4!G45)","v":""},{"$f":"IF(MTLWorksheet4!J45 = \"\",\"\",MTLWorksheet4!J45)","v":""},null,null,""]
[45,{"$f":"IF(MTLWorksheet4!B46 = \"\",\"\",MTLWorksheet4!B46)","v":""},{"$f":"IF(MTLWorksheet4!C46 = \"\",\"\",MTLWorksheet4!C46)","v":""},{"$f":"IF(MTLWorksheet4!D46 = \"\",\"\",MTLWorksheet4!D46)","v":""},{"$f":"IF(MTLWorksheet4!E46 = \"\",\"\",MTLWorksheet4!E46)","v":""},{"$f":"IF(MTLWorksheet4!F46 = \"\",\"\",MTLWorksheet4!F46)","v":""},{"$f":"IF(MTLWorksheet4!G46 = \"\",\"\",MTLWorksheet4!G46)","v":""},{"$f":"IF(MTLWorksheet4!J46 = \"\",\"\",MTLWorksheet4!J46)","v":""},null,null,""]
[46,{"$f":"IF(MTLWorksheet4!B47 = \"\",\"\",MTLWorksheet4!B47)","v":""},{"$f":"IF(MTLWorksheet4!C47 = \"\",\"\",MTLWorksheet4!C47)","v":""},{"$f":"IF(MTLWorksheet4!D47 = \"\",\"\",MTLWorksheet4!D47)","v":""},{"$f":"IF(MTLWorksheet4!E47 = \"\",\"\",MTLWorksheet4!E47)","v":""},{"$f":"IF(MTLWorksheet4!F47 = \"\",\"\",MTLWorksheet4!F47)","v":""},{"$f":"IF(MTLWorksheet4!G47 = \"\",\"\",MTLWorksheet4!G47)","v":""},{"$f":"IF(MTLWorksheet4!J47 = \"\",\"\",MTLWorksheet4!J47)","v":""},null,null,""]
[47,{"$f":"IF(MTLWorksheet4!B48 = \"\",\"\",MTLWorksheet4!B48)","v":""},{"$f":"IF(MTLWorksheet4!C48 = \"\",\"\",MTLWorksheet4!C48)","v":""},{"$f":"IF(MTLWorksheet4!D48 = \"\",\"\",MTLWorksheet4!D48)","v":""},{"$f":"IF(MTLWorksheet4!E48 = \"\",\"\",MTLWorksheet4!E48)","v":""},{"$f":"IF(MTLWorksheet4!F48 = \"\",\"\",MTLWorksheet4!F48)","v":""},{"$f":"IF(MTLWorksheet4!G48 = \"\",\"\",MTLWorksheet4!G48)","v":""},{"$f":"IF(MTLWorksheet4!J48 = \"\",\"\",MTLWorksheet4!J48)","v":""},null,null,""]
[48,{"$f":"IF(MTLWorksheet4!B49 = \"\",\"\",MTLWorksheet4!B49)","v":""},{"$f":"IF(MTLWorksheet4!C49 = \"\",\"\",MTLWorksheet4!C49)","v":""},{"$f":"IF(MTLWorksheet4!D49 = \"\",\"\",MTLWorksheet4!D49)","v":""},{"$f":"IF(MTLWorksheet4!E49 = \"\",\"\",MTLWorksheet4!E49)","v":""},{"$f":"IF(MTLWorksheet4!F49 = \"\",\"\",MTLWorksheet4!F49)","v":""},{"$f":"IF(MTLWorksheet4!G49 = \"\",\"\",MTLWorksheet4!G49)","v":""},{"$f":"IF(MTLWorksheet4!J49 = \"\",\"\",MTLWorksheet4!J49)","v":""},null,null,""]
[49,{"$f":"IF(MTLWorksheet4!B50 = \"\",\"\",MTLWorksheet4!B50)","v":""},{"$f":"IF(MTLWorksheet4!C50 = \"\",\"\",MTLWorksheet4!C50)","v":""},{"$f":"IF(MTLWorksheet4!D50 = \"\",\"\",MTLWorksheet4!D50)","v":""},{"$f":"IF(MTLWorksheet4!E50 = \"\",\"\",MTLWorksheet4!E50)","v":""},{"$f":"IF(MTLWorksheet4!F50 = \"\",\"\",MTLWorksheet4!F50)","v":""},{"$f":"IF(MTLWorksheet4!G50 = \"\",\"\",MTLWorksheet4!G50)","v":""},{"$f":"IF(MTLWorksheet4!J50 = \"\",\"\",MTLWorksheet4!J50)","v":""},null,null,""]
[50,{"$f":"IF(MTLWorksheet4!B51 = \"\",\"\",MTLWorksheet4!B51)","v":""},{"$f":"IF(MTLWorksheet4!C51 = \"\",\"\",MTLWorksheet4!C51)","v":""},{"$f":"IF(MTLWorksheet4!D51 = \"\",\"\",MTLWorksheet4!D51)","v":""},{"$f":"IF(MTLWorksheet4!E51 = \"\",\"\",MTLWorksheet4!E51)","v":""},{"$f":"IF(MTLWorksheet4!F51 = \"\",\"\",MTLWorksheet4!F51)","v":""},{"$f":"IF(MTLWorksheet4!G51 = \"\",\"\",MTLWorksheet4!G51)","v":""},{"$f":"IF(MTLWorksheet4!J51 = \"\",\"\",MTLWorksheet4!J51)","v":""},null,null,""]

{"sheet":"MTLWorksheet6","index":5,"n_rows":51,"n_cols":10,"rows_kept":51,"cut":false,"hidden":false,"merged":[]}
["Task Number","Task ","Frequency","Complexity of Task","Complexity to Learn","Criticality","Training Requirements","Required Skill\n(Agreed)","Current Skill\n(Agreed)","% Trained"]
[1,{"$f":"IF(MTLWorksheet5!B2 = \"\",\"\",MTLWorksheet5!B2)","v":""},{"$f":"IF(MTLWorksheet5!C2 = \"\",\"\",MTLWorksheet5!C2)","v":""},{"$f":"IF(MTLWorksheet5!D2 = \"\",\"\",MTLWorksheet5!D2)","v":""},{"$f":"IF(MTLWorksheet5!E2 = \"\",\"\",MTLWorksheet5!E2)","v":""},{"$f":"IF(MTLWorksheet5!F2 = \"\",\"\",MTLWorksheet5!F2)","v":""},{"$f":"IF(MTLWorksheet5!G2 = \"\",\"\",MTLWorksheet5!G2)","v":""},{"$f":"IF(MTLWorksheet5!H2 = \"\",\"\",MTLWorksheet5!H2)","v":""},{"$f":"IF(MTLWorksheet5!K2 = \"\",\"\",MTLWorksheet5!K2)","v":""},{"$f":"IF(H2=\"\",\"\",IF((100%/H2*I2)>100%,100%,(100%/H2*I2)))","v":""}]
[2,{"$f":"IF(MTLWorksheet5!B3 = \"\",\"\",MTLWorksheet5!B3)","v":""},{"$f":"IF(MTLWorksheet5!C3 = \"\",\"\",MTLWorksheet5!C3)","v":""},{"$f":"IF(MTLWorksheet5!D3 = \"\",\"\",MTLWorksheet5!D3)","v":""},{"$f":"IF(MTLWorksheet5!E3 = \"\",\"\",MTLWorksheet5!E3)","v":""},{"$f":"IF(MTLWorksheet5!F3 = \"\",\"\",MTLWorksheet5!F3)","v":""},{"$f":"IF(MTLWorksheet5!G3 = \"\",\"\",MTLWorksheet5!G3)","v":""},{"$f":"IF(MTLWorksheet5!H3 = \"\",\"\",MTLWorksheet5!H3)","v":""},{"$f":"IF(MTLWorksheet5!K3 = \"\",\"\",MTLWorksheet5!K3)","v":""},{"$f":"IF(H3=\"\",\"\",IF((100%/H3*I3)>100%,100%,(100%/H3*I3)))","v":""}]
[3,{"$f":"IF(MTLWorksheet5!B4 = \"\",\"\",MTLWorksheet5!B4)","v":""},{"$f":"IF(MTLWorksheet5!C4 = \"\",\"\",MTLWorksheet5!C4)","v":""},{"$f":"IF(MTLWorksheet5!D4 = \"\",\"\",MTLWorksheet5!D4)","v":""},{"$f":"IF(MTLWorksheet5!E4 = \"\",\"\",MTLWorksheet5!E4)","v":""},{"$f":"IF(MTLWorksheet5!F4 = \"\",\"\",MTLWorksheet5!F4)","v":""},{"$f":"IF(MTLWorksheet5!G4 = \"\",\"\",MTLWorksheet5!G4)","v":""},{"$f":"IF(MTLWorksheet5!H4 = \"\",\"\",MTLWorksheet5!H4)","v":""},{"$f":"IF(MTLWorksheet5!K4 = \"\",\"\",MTLWorksheet5!K4)","v":""},""]
[4,{"$f":"IF(MTLWorksheet5!B5 = \"\",\"\",MTLWorksheet5!B5)","v":""},{"$f":"IF(MTLWorksheet5!C5 = \"\",\"\",MTLWorksheet5!C5)","v":""},{"$f":"IF(MTLWorksheet5!D5 = \"\",\"\",MTLWorksheet5!D5)","v":""},{"$f":"IF(MTLWorksheet5!E5 = \"\",\"\",MTLWorksheet5!E5)","v":""},{"$f":"IF(MTLWorksheet5!F5 = \"\",\"\",MTLWorksheet5!F5)","v":""},{"$f":"IF(MTLWorksheet5!G5 = \"\",\"\",MTLWorksheet5!G5)","v":""},{"$f":"IF(MTLWorksheet5!H5 = \"\",\"\",MTLWorksheet5!H5)","v":""},{"$f":"IF(MTLWorksheet5!K5 = \"\",\"\",MTLWorksheet5!K5)","v":""},""]
[5,{"$f":"IF(MTLWorksheet5!B6 = \"\",\"\",MTLWorksheet5!B6)","v":""},{"$f":"IF(MTLWorksheet5!C6 = \"\",\"\",MTLWorksheet5!C6)","v":""},{"$f":"IF(MTLWorksheet5!D6 = \"\",\"\",MTLWorksheet5!D6)","v":""},{"$f":"IF(MTLWorksheet5!E6 = \"\",\"\",MTLWorksheet5!E6)","v":""},{"$f":"IF(MTLWorksheet5!F6 = \"\",\"\",MTLWorksheet5!F6)","v":""},{"$f":"IF(MTLWorksheet5!G6 = \"\",\"\",MTLWorksheet5!G6)","v":""},{"$f":"IF(MTLWorksheet5!H6 = \"\",\"\",MTLWorksheet5!H6)","v":""},{"$f":"IF(MTLWorksheet5!K6 = \"\",\"\",MTLWorksheet5!K6)","v":""},""]
[6,{"$f":"IF(MTLWorksheet5!B7 = \"\",\"\",MTLWorksheet5!B7)","v":""},{"$f":"IF(MTLWorksheet5!C7 = \"\",\"\",MTLWorksheet5!C7)","v":""},{"$f":"IF(MTLWorksheet5!D7 = \"\",\"\",MTLWorksheet5!D7)","v":""},{"$f":"IF(MTLWorksheet5!E7 = \"\",\"\",MTLWorksheet5!E7)","v":""},{"$f":"IF(MTLWorksheet5!F7 = \"\",\"\",MTLWorksheet5!F7)","v":""},{"$f":"IF(MTLWorksheet5!G7 = \"\",\"\",MTLWorksheet5!G7)","v":""},{"$f":"IF(MTLWorksheet5!H7 = \"\",\"\",MTLWorksheet5!H7)","v":""},{"$f":"IF(MTLWorksheet5!K7 = \"\",\"\",MTLWorksheet5!K7)","v":""},""]
[7,{"$f":"IF(MTLWorksheet5!B8 = \"\",\"\",MTLWorksheet5!B8)","v":""},{"$f":"IF(MTLWorksheet5!C8 = \"\",\"\",MTLWorksheet5!C8)","v":""},{"$f":"IF(MTLWorksheet5!D8 = \"\",\"\",MTLWorksheet5!D8)","v":""},{"$f":"IF(MTLWorksheet5!E8 = \"\",\"\",MTLWorksheet5!E8)","v":""},{"$f":"IF(MTLWorksheet5!F8 = \"\",\"\",MTLWorksheet5!F8)","v":""},{"$f":"IF(MTLWorksheet5!G8 = \"\",\"\",MTLWorksheet5!G8)","v":""},{"$f":"IF(MTLWorksheet5!H8 = \"\",\"\",MTLWorksheet5!H8)","v":""},{"$f":"IF(MTLWorksheet5!K8 = \"\",\"\",MTLWorksheet5!K8)","v":""},""]
[8,{"$f":"IF(MTLWorksheet5!B9 = \"\",\"\",MTLWorksheet5!B9)","v":""},{"$f":"IF(MTLWorksheet5!C9 = \"\",\"\",MTLWorksheet5!C9)","v":""},{"$f":"IF(MTLWorksheet5!D9 = \"\",\"\",MTLWorksheet5!D9)","v":""},{"$f":"IF(MTLWorksheet5!E9 = \"\",\"\",MTLWorksheet5!E9)","v":""},{"$f":"IF(MTLWorksheet5!F9 = \"\",\"\",MTLWorksheet5!F9)","v":""},{"$f":"IF(MTLWorksheet5!G9 = \"\",\"\",MTLWorksheet5!G9)","v":""},{"$f":"IF(MTLWorksheet5!H9 = \"\",\"\",MTLWorksheet5!H9)","v":""},{"$f":"IF(MTLWorksheet5!K9 = \"\",\"\",MTLWorksheet5!K9)","v":""},""]
[9,{"$f":"IF(MTLWorksheet5!B10 = \"\",\"\",MTLWorksheet5!B10)","v":""},{"$f":"IF(MTLWorksheet5!C10 = \"\",\"\",MTLWorksheet5!C10)","v":""},{"$f":"IF(MTLWorksheet5!D10 = \"\",\"\",MTLWorksheet5!D10)","v":""},{"$f":"IF(MTLWorksheet5!E10 = \"\",\"\",MTLWorksheet5!E10)","v":""},{"$f":"IF(MTLWorksheet5!F10 = \"\",\"\",MTLWorksheet5!F10)","v":""},{"$f":"IF(MTLWorksheet5!G10 = \"\",\"\",MTLWorksheet5!G10)","v":""},{"$f":"IF(MTLWorksheet5!H10 = \"\",\"\",MTLWorksheet5!H10)","v":""},{"$f":"IF(MTLWorksheet5!K10 = \"\",\"\",MTLWorksheet5!K10)","v":""},""]
[10,{"$f":"IF(MTLWorksheet5!B11 = \"\",\"\",MTLWorksheet5!B11)","v":""},{"$f":"IF(MTLWorksheet5!C11 = \"\",\"\",MTLWorksheet5!C11)","v":""},{"$f":"IF(MTLWorksheet5!D11 = \"\",\"\",MTLWorksheet5!D11)","v":""},{"$f":"IF(MTLWorksheet5!E11 = \"\",\"\",MTLWorksheet5!E11)","v":""},{"$f":"IF(MTLWorksheet5!F11 = \"\",\"\",MTLWorksheet5!F11)","v":""},{"$f":"IF(MTLWorksheet5!G11 = \"\",\"\",MTLWorksheet5!G11)","v":""},{"$f":"IF(MTLWorksheet5!H11 = \"\",\"\",MTLWorksheet5!H11)","v":""},{"$f":"IF(MTLWorksheet5!K11 = \"\",\"\",MTLWorksheet5!K11)","v":""},""]
[11,{"$f":"IF(MTLWorksheet5!B12 = \"\",\"\",MTLWorksheet5!B12)","v":""},{"$f":"IF(MTLWorksheet5!C12 = \"\",\"\",MTLWorksheet5!C12)","v":""},{"$f":"IF(MTLWorksheet5!D12 = \"\",\"\",MTLWorksheet5!D12)","v":""},{"$f":"IF(MTLWorksheet5!E12 = \"\",\"\",MTLWorksheet5!E12)","v":""},{"$f":"IF(MTLWorksheet5!F12 = \"\",\"\",MTLWorksheet5!F12)","v":""},{"$f":"IF(MTLWorksheet5!G12 = \"\",\"\",MTLWorksheet5!G12)","v":""},{"$f":"IF(MTLWorksheet5!H12 = \"\",\"\",MTLWorksheet5!H12)","v":""},{"$f":"IF(MTLWorksheet5!K12 = \"\",\"\",MTLWorksheet5!K12)","v":""},""]
[12,{"$f":"IF(MTLWorksheet5!B13 = \"\",\"\",MTLWorksheet5!B13)","v":""},{"$f":"IF(MTLWorksheet5!C13 = \"\",\"\",MTLWorksheet5!C13)","v":""},{"$f":"IF(MTLWorksheet5!D13 = \"\",\"\",MTLWorksheet5!D13)","v":""},{"$f":"IF(MTLWorksheet5!E13 = \"\",\"\",MTLWorksheet5!E13)","v":""},{"$f":"IF(MTLWorksheet5!F13 = \"\",\"\",MTLWorksheet5!F13)","v":""},{"$f":"IF(MTLWorksheet5!G13 = \"\",\"\",MTLWorksheet5!G13)","v":""},{"$f":"IF(MTLWorksheet5!H13 = \"\",\"\",MTLWorksheet5!H13)","v":""},{"$f":"IF(MTLWorksheet5!K13 = \"\",\"\",MTLWorksheet5!K13)","v":""},""]
[13,{"$f":"IF(MTLWorksheet5!B14 = \"\",\"\",MTLWorksheet5!B14)","v":""},{"$f":"IF(MTLWorksheet5!C14 = \"\",\"\",MTLWorksheet5!C14)","v":""},{"$f":"IF(MTLWorksheet5!D14 = \"\",\"\",MTLWorksheet5!D14)","v":""},{"$f":"IF(MTLWorksheet5!E14 = \"\",\"\",MTLWorksheet5!E14)","v":""},{"$f":"IF(MTLWorksheet5!F14 = \"\",\"\",MTLWorksheet5!F14)","v":""},{"$f":"IF(MTLWorksheet5!G14 = \"\",\"\",MTLWorksheet5!G14)","v":""},{"$f":"IF(MTLWorksheet5!H14 = \"\",\"\",MTLWorksheet5!H14)","v":""},{"$f":"IF(MTLWorksheet5!K14 = \"\",\"\",MTLWorksheet5!K14)","v":""},""]
[14,{"$f":"IF(MTLWorksheet5!B15 = \"\",\"\",MTLWorksheet5!B15)","v":""},{"$f":"IF(MTLWorksheet5!C15 = \"\",\"\",MTLWorksheet5!C15)","v":""},{"$f":"IF(MTLWorksheet5!D15 = \"\",\"\",MTLWorksheet5!D15)","v":""},{"$f":"IF(MTLWorksheet5!E15 = \"\",\"\",MTLWorksheet5!E15)","v":""},{"$f":"IF(MTLWorksheet5!F15 = \"\",\"\",MTLWorksheet5!F15)","v":""},{"$f":"IF(MTLWorksheet5!G15 = \"\",\"\",MTLWorksheet5!G15)","v":""},{"$f":"IF(MTLWorksheet5!H15 = \"\",\"\",MTLWorksheet5!H15)","v":""},{"$f":"IF(MTLWorksheet5!K15 = \"\",\"\",MTLWorksheet5!K15)","v":""},""]
[15,{"$f":"IF(MTLWorksheet5!B16 = \"\",\"\",MTLWorksheet5!B16)","v":""},{"$f":"IF(MTLWorksheet5!C16 = \"\",\"\",MTLWorksheet5!C16)","v":""},{"$f":"IF(MTLWorksheet5!D16 = \"\",\"\",MTLWorksheet5!D16)","v":""},{"$f":"IF(MTLWorksheet5!E16 = \"\",\"\",MTLWorksheet5!E16)","v":""},{"$f":"IF(MTLWorksheet5!F16 = \"\",\"\",MTLWorksheet5!F16)","v":""},{"$f":"IF(MTLWorksheet5!G16 = \"\",\"\",MTLWorksheet5!G16)","v":""},{"$f":"IF(MTLWorksheet5!H16 = \"\",\"\",MTLWorksheet5!H16)","v":""},{"$f":"IF(MTLWorksheet5!K16 = \"\",\"\",MTLWorksheet5!K16)","v":""},""]
[16,{"$f":"IF(MTLWorksheet5!B17 = \"\",\"\",MTLWorksheet5!B17)","v":""},{"$f":"IF(MTLWorksheet5!C17 = \"\",\"\",MTLWorksheet5!C17)","v":""},{"$f":"IF(MTLWorksheet5!D17 = \"\",\"\",MTLWorksheet5!D17)","v":""},{"$f":"IF(MTLWorksheet5!E17 = \"\",\"\",MTLWorksheet5!E17)","v":""},{"$f":"IF(MTLWorksheet5!F17 = \"\",\"\",MTLWorksheet5!F17)","v":""},{"$f":"IF(MTLWorksheet5!G17 = \"\",\"\",MTLWorksheet5!G17)","v":""},{"$f":"IF(MTLWorksheet5!H17 = \"\",\"\",MTLWorksheet5!H17)","v":""},{"$f":"IF(MTLWorksheet5!K17 = \"\",\"\",MTLWorksheet5!K17)","v":""},""]
[17,{"$f":"IF(MTLWorksheet5!B18 = \"\",\"\",MTLWorksheet5!B18)","v":""},{"$f":"IF(MTLWorksheet5!C18 = \"\",\"\",MTLWorksheet5!C18)","v":""},{"$f":"IF(MTLWorksheet5!D18 = \"\",\"\",MTLWorksheet5!D18)","v":""},{"$f":"IF(MTLWorksheet5!E18 = \"\",\"\",MTLWorksheet5!E18)","v":""},{"$f":"IF(MTLWorksheet5!F18 = \"\",\"\",MTLWorksheet5!F18)","v":""},{"$f":"IF(MTLWorksheet5!G18 = \"\",\"\",MTLWorksheet5!G18)","v":""},{"$f":"IF(MTLWorksheet5!H18 = \"\",\"\",MTLWorksheet5!H18)","v":""},{"$f":"IF(MTLWorksheet5!K18 = \"\",\"\",MTLWorksheet5!K18)","v":""},""]
[18,{"$f":"IF(MTLWorksheet5!B19 = \"\",\"\",MTLWorksheet5!B19)","v":""},{"$f":"IF(MTLWorksheet5!C19 = \"\",\"\",MTLWorksheet5!C19)","v":""},{"$f":"IF(MTLWorksheet5!D19 = \"\",\"\",MTLWorksheet5!D19)","v":""},{"$f":"IF(MTLWorksheet5!E19 = \"\",\"\",MTLWorksheet5!E19)","v":""},{"$f":"IF(MTLWorksheet5!F19 = \"\",\"\",MTLWorksheet5!F19)","v":""},{"$f":"IF(MTLWorksheet5!G19 = \"\",\"\",MTLWorksheet5!G19)","v":""},{"$f":"IF(MTLWorksheet5!H19 = \"\",\"\",MTLWorksheet5!H19)","v":""},{"$f":"IF(MTLWorksheet5!K19 = \"\",\"\",MTLWorksheet5!K19)","v":""},""]
[19,{"$f":"IF(MTLWorksheet5!B20 = \"\",\"\",MTLWorksheet5!B20)","v":""},{"$f":"IF(MTLWorksheet5!C20 = \"\",\"\",MTLWorksheet5!C20)","v":""},{"$f":"IF(MTLWorksheet5!D20 = \"\",\"\",MTLWorksheet5!D20)","v":""},{"$f":"IF(MTLWorksheet5!E20 = \"\",\"\",MTLWorksheet5!E20)","v":""},{"$f":"IF(MTLWorksheet5!F20 = \"\",\"\",MTLWorksheet5!F20)","v":""},{"$f":"IF(MTLWorksheet5!G20 = \"\",\"\",MTLWorksheet5!G20)","v":""},{"$f":"IF(MTLWorksheet5!H20 = \"\",\"\",MTLWorksheet5!H20)","v":""},{"$f":"IF(MTLWorksheet5!K20 = \"\",\"\",MTLWorksheet5!K20)","v":""},""]
[20,{"$f":"IF(MTLWorksheet5!B21 = \"\",\"\",MTLWorksheet5!B21)","v":""},{"$f":"IF(MTLWorksheet5!C21 = \"\",\"\",MTLWorksheet5!C21)","v":""},{"$f":"IF(MTLWorksheet5!D21 = \"\",\"\",MTLWorksheet5!D21)","v":""},{"$f":"IF(MTLWorksheet5!E21 = \"\",\"\",MTLWorksheet5!E21)","v":""},{"$f":"IF(MTLWorksheet5!F21 = \"\",\"\",MTLWorksheet5!F21)","v":""},{"$f":"IF(MTLWorksheet5!G21 = \"\",\"\",MTLWorksheet5!G21)","v":""},{"$f":"IF(MTLWorksheet5!H21 = \"\",\"\",MTLWorksheet5!H21)","v":""},{"$f":"IF(MTLWorksheet5!K21 = \"\",\"\",MTLWorksheet5!K21)","v":""},""]
[21,{"$f":"IF(MTLWorksheet5!B22 = \"\",\"\",MTLWorksheet5!B22)","v":""},{"$f":"IF(MTLWorksheet5!C22 = \"\",\"\",MTLWorksheet5!C22)","v":""},{"$f":"IF(MTLWorksheet5!D22 = \"\",\"\",MTLWorksheet5!D22)","v":""},{"$f":"IF(MTLWorksheet5!E22 = \"\",\"\",MTLWorksheet5!E22)","v":""},{"$f":"IF(MTLWorksheet5!F22 = \"\",\"\",MTLWorksheet5!F22)","v":""},{"$f":"IF(MTLWorksheet5!G22 = \"\",\"\",MTLWorksheet5!G22)","v":""},{"$f":"IF(MTLWorksheet5!H22 = \"\",\"\",MTLWorksheet5!H22)","v":""},{"$f":"IF(MTLWorksheet5!K22 = \"\",\"\",MTLWorksheet5!K22)","v":""},""]
[22,{"$f":"IF(MTLWorksheet5!B23 = \"\",\"\",MTLWorksheet5!B23)","v":""},{"$f":"IF(MTLWorksheet5!C23 = \"\",\"\",MTLWorksheet5!C23)","v":""},{"$f":"IF(MTLWorksheet5!D23 = \"\",\"\",MTLWorksheet5!D23)","v":""},{"$f":"IF(MTLWorksheet5!E23 = \"\",\"\",MTLWorksheet5!E23)","v":""},{"$f":"IF(MTLWorksheet5!F23 = \"\",\"\",MTLWorksheet5!F23)","v":""},{"$f":"IF(MTLWorksheet5!G23 = \"\",\"\",MTLWorksheet5!G23)","v":""},{"$f":"IF(MTLWorksheet5!H23 = \"\",\"\",MTLWorksheet5!H23)","v":""},{"$f":"IF(MTLWorksheet5!K23 = \"\",\"\",MTLWorksheet5!K23)","v":""},""]
[23,{"$f":"IF(MTLWorksheet5!B24 = \"\",\"\",MTLWorksheet5!B24)","v":""},{"$f":"IF(MTLWorksheet5!C24 = \"\",\"\",MTLWorksheet5!C24)","v":""},{"$f":"IF(MTLWorksheet5!D24 = \"\",\"\",MTLWorksheet5!D24)","v":""},{"$f":"IF(MTLWorksheet5!E24 = \"\",\"\",MTLWorksheet5!E24)","v":""},{"$f":"IF(MTLWorksheet5!F24 = \"\",\"\",MTLWorksheet5!F24)","v":""},{"$f":"IF(MTLWorksheet5!G24 = \"\",\"\",MTLWorksheet5!G24)","v":""},{"$f":"IF(MTLWorksheet5!H24 = \"\",\"\",MTLWorksheet5!H24)","v":""},{"$f":"IF(MTLWorksheet5!K24 = \"\",\"\",MTLWorksheet5!K24)","v":""},""]
[24,{"$f":"IF(MTLWorksheet5!B25 = \"\",\"\",MTLWorksheet5!B25)","v":""},{"$f":"IF(MTLWorksheet5!C25 = \"\",\"\",MTLWorksheet5!C25)","v":""},{"$f":"IF(MTLWorksheet5!D25 = \"\",\"\",MTLWorksheet5!D25)","v":""},{"$f":"IF(MTLWorksheet5!E25 = \"\",\"\",MTLWorksheet5!E25)","v":""},{"$f":"IF(MTLWorksheet5!F25 = \"\",\"\",MTLWorksheet5!F25)","v":""},{"$f":"IF(MTLWorksheet5!G25 = \"\",\"\",MTLWorksheet5!G25)","v":""},{"$f":"IF(MTLWorksheet5!H25 = \"\",\"\",MTLWorksheet5!H25)","v":""},{"$f":"IF(MTLWorksheet5!K25 = \"\",\"\",MTLWorksheet5!K25)","v":""},""]
[25,{"$f":"IF(MTLWorksheet5!B26 = \"\",\"\",MTLWorksheet5!B26)","v":""},{"$f":"IF(MTLWorksheet5!C26 = \"\",\"\",MTLWorksheet5!C26)","v":""},{"$f":"IF(MTLWorksheet5!D26 = \"\",\"\",MTLWorksheet5!D26)","v":""},{"$f":"IF(MTLWorksheet5!E26 = \"\",\"\",MTLWorksheet5!E26)","v":""},{"$f":"IF(MTLWorksheet5!F26 = \"\",\"\",MTLWorksheet5!F26)","v":""},{"$f":"IF(MTLWorksheet5!G26 = \"\",\"\",MTLWorksheet5!G26)","v":""},{"$f":"IF(MTLWorksheet5!H26 = \"\",\"\",MTLWorksheet5!H26)","v":""},{"$f":"IF(MTLWorksheet5!K26 = \"\",\"\",MTLWorksheet5!K26)","v":""},""]
[26,{"$f":"IF(MTLWorksheet5!B27 = \"\",\"\",MTLWorksheet5!B27)","v":""},{"$f":"IF(MTLWorksheet5!C27 = \"\",\"\",MTLWorksheet5!C27)","v":""},{"$f":"IF(MTLWorksheet5!D27 = \"\",\"\",MTLWorksheet5!D27)","v":""},{"$f":"IF(MTLWorksheet5!E27 = \"\",\"\",MTLWorksheet5!E27)","v":""},{"$f":"IF(MTLWorksheet5!F27 = \"\",\"\",MTLWorksheet5!F27)","v":""},{"$f":"IF(MTLWorksheet5!G27 = \"\",\"\",MTLWorksheet5!G27)","v":""},{"$f":"IF(MTLWorksheet5!H27 = \"\",\"\",MTLWorksheet5!H27)","v":""},{"$f":"IF(MTLWorksheet5!K27 = \"\",\"\",MTLWorksheet5!K27)","v":""},""]
[27,{"$f":"IF(MTLWorksheet5!B28 = \"\",\"\",MTLWorksheet5!B28)","v":""},{"$f":"IF(MTLWorksheet5!C28 = \"\",\"\",MTLWorksheet5!C28)","v":""},{"$f":"IF(MTLWorksheet5!D28 = \"\",\"\",MTLWorksheet5!D28)","v":""},{"$f":"IF(MTLWorksheet5!E28 = \"\",\"\",MTLWorksheet5!E28)","v":""},{"$f":"IF(MTLWorksheet5!F28 = \"\",\"\",MTLWorksheet5!F28)","v":""},{"$f":"IF(MTLWorksheet5!G28 = \"\",\"\",MTLWorksheet5!G28)","v":""},{"$f":"IF(MTLWorksheet5!H28 = \"\",\"\",MTLWorksheet5!H28)","v":""},{"$f":"IF(MTLWorksheet5!K28 = \"\",\"\",MTLWorksheet5!K28)","v":""},""]
[28,{"$f":"IF(MTLWorksheet5!B29 = \"\",\"\",MTLWorksheet5!B29)","v":""},{"$f":"IF(MTLWorksheet5!C29 = \"\",\"\",MTLWorksheet5!C29)","v":""},{"$f":"IF(MTLWorksheet5!D29 = \"\",\"\",MTLWorksheet5!D29)","v":""},{"$f":"IF(MTLWorksheet5!E29 = \"\",\"\",MTLWorksheet5!E29)","v":""},{"$f":"IF(MTLWorksheet5!F29 = \"\",\"\",MTLWorksheet5!F29)","v":""},{"$f":"IF(MTLWorksheet5!G29 = \"\",\"\",MTLWorksheet5!G29)","v":""},{"$f":"IF(MTLWorksheet5!H29 = \"\",\"\",MTLWorksheet5!H29)","v":""},{"$f":"IF(MTLWorksheet5!K29 = \"\",\"\",MTLWorksheet5!K29)","v":""},""]
[29,{"$f":"IF(MTLWorksheet5!B30 = \"\",\"\",MTLWorksheet5!B30)","v":""},{"$f":"IF(MTLWorksheet5!C30 = \"\",\"\",MTLWorksheet5!C30)","v":""},{"$f":"IF(MTLWorksheet5!D30 = \"\",\"\",MTLWorksheet5!D30)","v":""},{"$f":"IF(MTLWorksheet5!E30 = \"\",\"\",MTLWorksheet5!E30)","v":""},{"$f":"IF(MTLWorksheet5!F30 = \"\",\"\",MTLWorksheet5!F30)","v":""},{"$f":"IF(MTLWorksheet5!G30 = \"\",\"\",MTLWorksheet5!G30)","v":""},{"$f":"IF(MTLWorksheet5!H30 = \"\",\"\",MTLWorksheet5!H30)","v":""},{"$f":"IF(MTLWorksheet5!K30 = \"\",\"\",MTLWorksheet5!K30)","v":""},""]
[30,{"$f":"IF(MTLWorksheet5!B31 = \"\",\"\",MTLWorksheet5!B31)","v":""},{"$f":"IF(MTLWorksheet5!C31 = \"\",\"\",MTLWorksheet5!C31)","v":""},{"$f":"IF(MTLWorksheet5!D31 = \"\",\"\",MTLWorksheet5!D31)","v":""},{"$f":"IF(MTLWorksheet5!E31 = \"\",\"\",MTLWorksheet5!E31)","v":""},{"$f":"IF(MTLWorksheet5!F31 = \"\",\"\",MTLWorksheet5!F31)","v":""},{"$f":"IF(MTLWorksheet5!G31 = \"\",\"\",MTLWorksheet5!G31)","v":""},{"$f":"IF(MTLWorksheet5!H31 = \"\",\"\",MTLWorksheet5!H31)","v":""},{"$f":"IF(MTLWorksheet5!K31 = \"\",\"\",MTLWorksheet5!K31)","v":""},""]
[31,{"$f":"IF(MTLWorksheet5!B32 = \"\",\"\",MTLWorksheet5!B32)","v":""},{"$f":"IF(MTLWorksheet5!C32 = \"\",\"\",MTLWorksheet5!C32)","v":""},{"$f":"IF(MTLWorksheet5!D32 = \"\",\"\",MTLWorksheet5!D32)","v":""},{"$f":"IF(MTLWorksheet5!E32 = \"\",\"\",MTLWorksheet5!E32)","v":""},{"$f":"IF(MTLWorksheet5!F32 = \"\",\"\",MTLWorksheet5!F32)","v":""},{"$f":"IF(MTLWorksheet5!G32 = \"\",\"\",MTLWorksheet5!G32)","v":""},{"$f":"IF(MTLWorksheet5!H32 = \"\",\"\",MTLWorksheet5!H32)","v":""},{"$f":"IF(MTLWorksheet5!K32 = \"\",\"\",MTLWorksheet5!K32)","v":""},""]
[32,{"$f":"IF(MTLWorksheet5!B33 = \"\",\"\",MTLWorksheet5!B33)","v":""},{"$f":"IF(MTLWorksheet5!C33 = \"\",\"\",MTLWorksheet5!C33)","v":""},{"$f":"IF(MTLWorksheet5!D33 = \"\",\"\",MTLWorksheet5!D33)","v":""},{"$f":"IF(MTLWorksheet5!E33 = \"\",\"\",MTLWorksheet5!E33)","v":""},{"$f":"IF(MTLWorksheet5!F33 = \"\",\"\",MTLWorksheet5!F33)","v":""},{"$f":"IF(MTLWorksheet5!G33 = \"\",\"\",MTLWorksheet5!G33)","v":""},{"$f":"IF(MTLWorksheet5!H33 = \"\",\"\",MTLWorksheet5!H33)","v":""},{"$f":"IF(MTLWorksheet5!K33 = \"\",\"\",MTLWorksheet5!K33)","v":""},""]
[33,{"$f":"IF(MTLWorksheet5!B34 = \"\",\"\",MTLWorksheet5!B34)","v":""},{"$f":"IF(MTLWorksheet5!C34 = \"\",\"\",MTLWorksheet5!C34)","v":""},{"$f":"IF(MTLWorksheet5!D34 = \"\",\"\",MTLWorksheet5!D34)","v":""},{"$f":"IF(MTLWorksheet5!E34 = \"\",\"\",MTLWorksheet5!E34)","v":""},{"$f":"IF(MTLWorksheet5!F34 = \"\",\"\",MTLWorksheet5!F34)","v":""},{"$f":"IF(MTLWorksheet5!G34 = \"\",\"\",MTLWorksheet5!G34)","v":""},{"$f":"IF(MTLWorksheet5!H34 = \"\",\"\",MTLWorksheet5!H34)","v":""},{"$f":"IF(MTLWorksheet5!K34 = \"\",\"\",MTLWorksheet5!K34)","v":""},""]
[34,{"$f":"IF(MTLWorksheet5!B35 = \"\",\"\",MTLWorksheet5!B35)","v":""},{"$f":"IF(MTLWorksheet5!C35 = \"\",\"\",MTLWorksheet5!C35)","v":""},{"$f":"IF(MTLWorksheet5!D35 = \"\",\"\",MTLWorksheet5!D35)","v":""},{"$f":"IF(MTLWorksheet5!E35 = \"\",\"\",MTLWorksheet5!E35)","v":""},{"$f":"IF(MTLWorksheet5!F35 = \"\",\"\",MTLWorksheet5!F35)","v":""},{"$f":"IF(MTLWorksheet5!G35 = \"\",\"\",MTLWorksheet5!G35)","v":""},{"$f":"IF(MTLWorksheet5!H35 = \"\",\"\",MTLWorksheet5!H35)","v":""},{"$f":"IF(MTLWorksheet5!K35 = \"\",\"\",MTLWorksheet5!K35)","v":""},""]
[35,{"$f":"IF(MTLWorksheet5!B36 = \"\",\"\",MTLWorksheet5!B36)","v":""},{"$f":"IF(MTLWorksheet5!C36 = \"\",\"\",MTLWorksheet5!C36)","v":""},{"$f":"IF(MTLWorksheet5!D36 = \"\",\"\",MTLWorksheet5!D36)","v":""},{"$f":"IF(MTLWorksheet5!E36 = \"\",\"\",MTLWorksheet5!E36)","v":""},{"$f":"IF(MTLWorksheet5!F36 = \"\",\"\",MTLWorksheet5!F36)","v":""},{"$f":"IF(MTLWorksheet5!G36 = \"\",\"\",MTLWorksheet5!G36)","v":""},{"$f":"IF(MTLWorksheet5!H36 = \"\",\"\",MTLWorksheet5!H36)","v":""},{"$f":"IF(MTLWorksheet5!K36 = \"\",\"\",MTLWorksheet5!K36)","v":""},""]
[36,{"$f":"IF(MTLWorksheet5!B37 = \"\",\"\",MTLWorksheet5!B37)","v":""},{"$f":"IF(MTLWorksheet5!C37 = \"\",\"\",MTLWorksheet5!C37)","v":""},{"$f":"IF(MTLWorksheet5!D37 = \"\",\"\",MTLWorksheet5!D37)","v":""},{"$f":"IF(MTLWorksheet5!E37 = \"\",\"\",MTLWorksheet5!E37)","v":""},{"$f":"IF(MTLWorksheet5!F37 = \"\",\"\",MTLWorksheet5!F37)","v":""},{"$f":"IF(MTLWorksheet5!G37 = \"\",\"\",MTLWorksheet5!G37)","v":""},{"$f":"IF(MTLWorksheet5!H37 = \"\",\"\",MTLWorksheet5!H37)","v":""},{"$f":"IF(MTLWorksheet5!K37 = \"\",\"\",MTLWorksheet5!K37)","v":""},""]
[37,{"$f":"IF(MTLWorksheet5!B38 = \"\",\"\",MTLWorksheet5!B38)","v":""},{"$f":"IF(MTLWorksheet5!C38 = \"\",\"\",MTLWorksheet5!C38)","v":""},{"$f":"IF(MTLWorksheet5!D38 = \"\",\"\",MTLWorksheet5!D38)","v":""},{"$f":"IF(MTLWorksheet5!E38 = \"\",\"\",MTLWorksheet5!E38)","v":""},{"$f":"IF(MTLWorksheet5!F38 = \"\",\"\",MTLWorksheet5!F38)","v":""},{"$f":"IF(MTLWorksheet5!G38 = \"\",\"\",MTLWorksheet5!G38)","v":""},{"$f":"IF(MTLWorksheet5!H38 = \"\",\"\",MTLWorksheet5!H38)","v":""},{"$f":"IF(MTLWorksheet5!K38 = \"\",\"\",MTLWorksheet5!K38)","v":""},""]
[38,{"$f":"IF(MTLWorksheet5!B39 = \"\",\"\",MTLWorksheet5!B39)","v":""},{"$f":"IF(MTLWorksheet5!C39 = \"\",\"\",MTLWorksheet5!C39)","v":""},{"$f":"IF(MTLWorksheet5!D39 = \"\",\"\",MTLWorksheet5!D39)","v":""},{"$f":"IF(MTLWorksheet5!E39 = \"\",\"\",MTLWorksheet5!E39)","v":""},{"$f":"IF(MTLWorksheet5!F39 = \"\",\"\",MTLWorksheet5!F39)","v":""},{"$f":"IF(MTLWorksheet5!G39 = \"\",\"\",MTLWorksheet5!G39)","v":""},{"$f":"IF(MTLWorksheet5!H39 = \"\",\"\",MTLWorksheet5!H39)","v":""},{"$f":"IF(MTLWorksheet5!K39 = \"\",\"\",MTLWorksheet5!K39)","v":""},""]
[39,{"$f":"IF(MTLWorksheet5!B40 = \"\",\"\",MTLWorksheet5!B40)","v":""},{"$f":"IF(MTLWorksheet5!C40 = \"\",\"\",MTLWorksheet5!C40)","v":""},{"$f":"IF(MTLWorksheet5!D40 = \"\",\"\",MTLWorksheet5!D40)","v":""},{"$f":"IF(MTLWorksheet5!E40 = \"\",\"\",MTLWorksheet5!E40)","v":""},{"$f":"IF(MTLWorksheet5!F40 = \"\",\"\",MTLWorksheet5!F40)","v":""},{"$f":"IF(MTLWorksheet5!G40 = \"\",\"\",MTLWorksheet5!G40)","v":""},{"$f":"IF(MTLWorksheet5!H40 = \"\",\"\",MTLWorksheet5!H40)","v":""},{"$f":"IF(MTLWorksheet5!K40 = \"\",\"\",MTLWorksheet5!K40)","v":""},""]
[40,{"$f":"IF(MTLWorksheet5!B41 = \"\",\"\",MTLWorksheet5!B41)","v":""},{"$f":"IF(MTLWorksheet5!C41 = \"\",\"\",MTLWorksheet5!C41)","v":""},{"$f":"IF(MTLWorksheet5!D41 = \"\",\"\",MTLWorksheet5!D41)","v":""},{"$f":"IF(MTLWorksheet5!E41 = \"\",\"\",MTLWorksheet5!E41)","v":""},{"$f":"IF(MTLWorksheet5!F41 = \"\",\"\",MTLWorksheet5!F41)","v":""},{"$f":"IF(MTLWorksheet5!G41 = \"\",\"\",MTLWorksheet5!G41)","v":""},{"$f":"IF(MTLWorksheet5!H41 = \"\",\"\",MTLWorksheet5!H41)","v":""},{"$f":"IF(MTLWorksheet5!K41 = \"\",\"\",MTLWorksheet5!K41)","v":""},""]
[41,{"$f":"IF(MTLWorksheet5!B42 = \"\",\"\",MTLWorksheet5!B42)","v":""},{"$f":"IF(MTLWorksheet5!C42 = \"\",\"\",MTLWorksheet5!C42)","v":""},{"$f":"IF(MTLWorksheet5!D42 = \"\",\"\",MTLWorksheet5!D42)","v":""},{"$f":"IF(MTLWorksheet5!E42 = \"\",\"\",MTLWorksheet5!E42)","v":""},{"$f":"IF(MTLWorksheet5!F42 = \"\",\"\",MTLWorksheet5!F42)","v":""},{"$f":"IF(MTLWorksheet5!G42 = \"\",\"\",MTLWorksheet5!G42)","v":""},{"$f":"IF(MTLWorksheet5!H42 = \"\",\"\",MTLWorksheet5!H42)","v":""},{"$f":"IF(MTLWorksheet5!K42 = \"\",\"\",MTLWorksheet5!K42)","v":""},""]
[42,{"$f":"IF(MTLWorksheet5!B43 = \"\",\"\",MTLWorksheet5!B43)","v":""},{"$f":"IF(MTLWorksheet5!C43 = \"\",\"\",MTLWorksheet5!C43)","v":""},{"$f":"IF(MTLWorksheet5!D43 = \"\",\"\",MTLWorksheet5!D43)","v":""},{"$f":"IF(MTLWorksheet5!E43 = \"\",\"\",MTLWorksheet5!E43)","v":""},{"$f":"IF(MTLWorksheet5!F43 = \"\",\"\",MTLWorksheet5!F43)","v":""},{"$f":"IF(MTLWorksheet5!G43 = \"\",\"\",MTLWorksheet5!G43)","v":""},{"$f":"IF(MTLWorksheet5!H43 = \"\",\"\",MTLWorksheet5!H43)","v":""},{"$f":"IF(MTLWorksheet5!K43 = \"\",\"\",MTLWorksheet5!K43)","v":""},""]
[43,{"$f":"IF(MTLWorksheet5!B44 = \"\",\"\",MTLWorksheet5!B44)","v":""},{"$f":"IF(MTLWorksheet5!C44 = \"\",\"\",MTLWorksheet5!C44)","v":""},{"$f":"IF(MTLWorksheet5!D44 = \"\",\"\",MTLWorksheet5!D44)","v":""},{"$f":"IF(MTLWorksheet5!E44 = \"\",\"\",MTLWorksheet5!E44)","v":""},{"$f":"IF(MTLWorksheet5!F44 = \"\",\"\",MTLWorksheet5!F44)","v":""},{"$f":"IF(MTLWorksheet5!G44 = \"\",\"\",MTLWorksheet5!G44)","v":""},{"$f":"IF(MTLWorksheet5!H44 = \"\",\"\",MTLWorksheet5!H44)","v":""},{"$f":"IF(MTLWorksheet5!K44 = \"\",\"\",MTLWorksheet5!K44)","v":""},""]
[44,{"$f":"IF(MTLWorksheet5!B45 = \"\",\"\",MTLWorksheet5!B45)","v":""},{"$f":"IF(MTLWorksheet5!C45 = \"\",\"\",MTLWorksheet5!C45)","v":""},{"$f":"IF(MTLWorksheet5!D45 = \"\",\"\",MTLWorksheet5!D45)","v":""},{"$f":"IF(MTLWorksheet5!E45 = \"\",\"\",MTLWorksheet5!E45)","v":""},{"$f":"IF(MTLWorksheet5!F45 = \"\",\"\",MTLWorksheet5!F45)","v":""},{"$f":"IF(MTLWorksheet5!G45 = \"\",\"\",MTLWorksheet5!G45)","v":""},{"$f":"IF(MTLWorksheet5!H45 = \"\",\"\",MTLWorksheet5!H45)","v":""},{"$f":"IF(MTLWorksheet5!K45 = \"\",\"\",MTLWorksheet5!K45)","v":""},""]
[45,{"$f":"IF(MTLWorksheet5!B46 = \"\",\"\",MTLWorksheet5!B46)","v":""},{"$f":"IF(MTLWorksheet5!C46 = \"\",\"\",MTLWorksheet5!C46)","v":""},{"$f":"IF(MTLWorksheet5!D46 = \"\",\"\",MTLWorksheet5!D46)","v":""},{"$f":"IF(MTLWorksheet5!E46 = \"\",\"\",MTLWorksheet5!E46)","v":""},{"$f":"IF(MTLWorksheet5!F46 = \"\",\"\",MTLWorksheet5!F46)","v":""},{"$f":"IF(MTLWorksheet5!G46 = \"\",\"\",MTLWorksheet5!G46)","v":""},{"$f":"IF(MTLWorksheet5!H46 = \"\",\"\",MTLWorksheet5!H46)","v":""},{"$f":"IF(MTLWorksheet5!K46 = \"\",\"\",MTLWorksheet5!K46)","v":""},""]
[46,{"$f":"IF(MTLWorksheet5!B47 = \"\",\"\",MTLWorksheet5!B47)","v":""},{"$f":"IF(MTLWorksheet5!C47 = \"\",\"\",MTLWorksheet5!C47)","v":""},{"$f":"IF(MTLWorksheet5!D47 = \"\",\"\",MTLWorksheet5!D47)","v":""},{"$f":"IF(MTLWorksheet5!E47 = \"\",\"\",MTLWorksheet5!E47)","v":""},{"$f":"IF(MTLWorksheet5!F47 = \"\",\"\",MTLWorksheet5!F47)","v":""},{"$f":"IF(MTLWorksheet5!G47 = \"\",\"\",MTLWorksheet5!G47)","v":""},{"$f":"IF(MTLWorksheet5!H47 = \"\",\"\",MTLWorksheet5!H47)","v":""},{"$f":"IF(MTLWorksheet5!K47 = \"\",\"\",MTLWorksheet5!K47)","v":""},""]
[47,{"$f":"IF(MTLWorksheet5!B48 = \"\",\"\",MTLWorksheet5!B48)","v":""},{"$f":"IF(MTLWorksheet5!C48 = \"\",\"\",MTLWorksheet5!C48)","v":""},{"$f":"IF(MTLWorksheet5!D48 = \"\",\"\",MTLWorksheet5!D48)","v":""},{"$f":"IF(MTLWorksheet5!E48 = \"\",\"\",MTLWorksheet5!E48)","v":""},{"$f":"IF(MTLWorksheet5!F48 = \"\",\"\",MTLWorksheet5!F48)","v":""},{"$f":"IF(MTLWorksheet5!G48 = \"\",\"\",MTLWorksheet5!G48)","v":""},{"$f":"IF(MTLWorksheet5!H48 = \"\",\"\",MTLWorksheet5!H48)","v":""},{"$f":"IF(MTLWorksheet5!K48 = \"\",\"\",MTLWorksheet5!K48)","v":""},""]
[48,{"$f":"IF(MTLWorksheet5!B49 = \"\",\"\",MTLWorksheet5!B49)","v":""},{"$f":"IF(MTLWorksheet5!C49 = \"\",\"\",MTLWorksheet5!C49)","v":""},{"$f":"IF(MTLWorksheet5!D49 = \"\",\"\",MTLWorksheet5!D49)","v":""},{"$f":"IF(MTLWorksheet5!E49 = \"\",\"\",MTLWorksheet5!E49)","v":""},{"$f":"IF(MTLWorksheet5!F49 = \"\",\"\",MTLWorksheet5!F49)","v":""},{"$f":"IF(MTLWorksheet5!G49 = \"\",\"\",MTLWorksheet5!G49)","v":""},{"$f":"IF(MTLWorksheet5!H49 = \"\",\"\",MTLWorksheet5!H49)","v":""},{"$f":"IF(MTLWorksheet5!K49 = \"\",\"\",MTLWorksheet5!K49)","v":""},""]
[49,{"$f":"IF(MTLWorksheet5!B50 = \"\",\"\",MTLWorksheet5!B50)","v":""},{"$f":"IF(MTLWorksheet5!C50 = \"\",\"\",MTLWorksheet5!C50)","v":""},{"$f":"IF(MTLWorksheet5!D50 = \"\",\"\",MTLWorksheet5!D50)","v":""},{"$f":"IF(MTLWorksheet5!E50 = \"\",\"\",MTLWorksheet5!E50)","v":""},{"$f":"IF(MTLWorksheet5!F50 = \"\",\"\",MTLWorksheet5!F50)","v":""},{"$f":"IF(MTLWorksheet5!G50 = \"\",\"\",MTLWorksheet5!G50)","v":""},{"$f":"IF(MTLWorksheet5!H50 = \"\",\"\",MTLWorksheet5!H50)","v":""},{"$f":"IF(MTLWorksheet5!K50 = \"\",\"\",MTLWorksheet5!K50)","v":""},""]
[50,{"$f":"IF(MTLWorksheet5!B51 = \"\",\"\",MTLWorksheet5!B51)","v":""},{"$f":"IF(MTLWorksheet5!C51 = \"\",\"\",MTLWorksheet5!C51)","v":""},{"$f":"IF(MTLWorksheet5!D51 = \"\",\"\",MTLWorksheet5!D51)","v":""},{"$f":"IF(MTLWorksheet5!E51 = \"\",\"\",MTLWorksheet5!E51)","v":""},{"$f":"IF(MTLWorksheet5!F51 = \"\",\"\",MTLWorksheet5!F51)","v":""},{"$f":"IF(MTLWorksheet5!G51 = \"\",\"\",MTLWorksheet5!G51)","v":""},{"$f":"IF(MTLWorksheet5!H51 = \"\",\"\",MTLWorksheet5!H51)","v":""},{"$f":"IF(MTLWorksheet5!K51 = \"\",\"\",MTLWorksheet5!K51)","v":""},""]

{"sheet":"Instructions","index":6,"n_rows":11,"n_cols":7,"rows_kept":11,"cut":false,"hidden":false,"merged":[]}
[null,"Task ","Frequency","Complexity of Task","Complexity to Learn","Criticality","Training Reqt's"]
[1]
[2]
[3]
[4]
[5]
[6]
[7]
[8]
[9]
[10]

{"sheet":"Training Evals","index":7,"n_rows":27,"n_cols":13,"rows_kept":27,"cut":false,"hidden":false,"merged":[[0,1,0,2],[0,7,0,10]]}
[null,"Skill Level",null,null,null,null,null,"Training Schedule",null,null,null,null,"% trained"]
["Task","Req't","Now","GAP",null,"Priority",null,"Proj start date","Actual St Date","Proj end date","Actual End date",null,{"$f":"AVERAGE(M4:M25)","v":{"$error":"#DIV/0!"}}]
["Area 1"]
[null,null,null,{"$f":"IF(C4-B4=0,\"\",C4-B4)","v":""},null,null,null,null,null,null,null,null,{"$f":"IF((100%/B4*C4)>100%,100%,(100%/B4*C4))","v":{"$error":"#DIV/0!"}}]
[null,null,null,"",null,null,null,null,null,null,null,null,{"$error":"#DIV/0!"}]
[null,null,null,"",null,null,null,null,null,null,null,null,{"$error":"#DIV/0!"}]
[null,null,null,"",null,null,null,null,null,null,null,null,{"$error":"#DIV/0!"}]
[null,null,null,"",null,null,null,null,null,null,null,null,{"$error":"#DIV/0!"}]
[null,null,null,"",null,null,null,null,null,null,null,null,{"$error":"#DIV/0!"}]
[null,null,null,"",null,null,null,null,null,null,null,null,{"$error":"#DIV/0!"}]
[null,null,null,"",null,null,null,null,null,null,null,null,{"$error":"#DIV/0!"}]
[null,null,null,"",null,null,null,null,null,null,null,null,{"$error":"#DIV/0!"}]
[null,null,null,null,null,null,null,null,null,null,null,null,{"$error":"#DIV/0!"}]
[null,null,null,{"$f":"IF(C14-B14=0,\"\",C14-B14)","v":""},null,null,null,null,null,null,null,null,{"$error":"#DIV/0!"}]
[null,null,null,null,null,null,null,null,null,null,null,null,{"$error":"#DIV/0!"}]
[null,null,null,null,null,null,null,null,null,null,null,null,{"$error":"#DIV/0!"}]
[null,null,null,null,null,null,null,null,null,null,null,null,{"$error":"#DIV/0!"}]
[null,null,null,{"$f":"IF(C18-B18=0,\"\",C18-B18)","v":""},null,null,null,null,null,null,null,null,{"$error":"#DIV/0!"}]
[null,null,null,"",null,null,null,null,null,null,null,null,{"$error":"#DIV/0!"}]
[null,null,null,"",null,null,null,null,null,null,null,null,{"$error":"#DIV/0!"}]
[null,null,null,"",null,null,null,null,null,null,null,null,{"$error":"#DIV/0!"}]
[null,null,null,"",null,null,null,null,null,null,null,null,{"$error":"#DIV/0!"}]
[null,null,null,"",null,null,null,null,null,null,null,null,{"$error":"#DIV/0!"}]
[null,null,null,"",null,null,null,null,null,null,null,null,{"$error":"#DIV/0!"}]
[null,null,null,"",null,null,null,null,null,null,null,null,{"$error":"#DIV/0!"}]
[null,null,null,{"$f":"IF(C26-B26=0,\"\",C26-B26)","v":""},null,null,null,null,null,null,null,null,{"$f":"IF((100%/B26*C26)>100%,100%,(100%/B26*C26))","v":{"$error":"#DIV/0!"}}]
[null,null,null,{"$f":"IF(C27-B27=0,\"\",C27-B27)","v":""},null,null,null,null,null,null,null,null,{"$f":"IF((100%/B27*C27)>100%,100%,(100%/B27*C27))","v":{"$error":"#DIV/0!"}}]

{"sheet":"Training Schedule","index":8,"n_rows":25,"n_cols":11,"rows_kept":25,"cut":false,"hidden":false,"merged":[[0,3,1,3],[0,9,1,9],[0,10,1,10],[0,8,1,8],[0,5,1,5],[0,6,1,6]]}
[null,"Skill level  ",null,"knowledge?","Training Schedule","Date Schedule","Date Complete",null,"Skill lvl after","% Trained","Priority"]
["Task","initial skill lvl ",null,null,"Title",null,null,"Source"]
["Area 1"]
[null,null,null,null,null,null,null,null,null,{"$f":"VLOOKUP(A4,'Training Evals'!A4:M50,13,FALSE)","v":{"$error":"#N/A"}},{"$f":"VLOOKUP(A4,'Training Evals'!A4:N51,6,FALSE)","v":{"$error":"#N/A"}}]
[null,null,null,null,null,null,null,null,null,{"$f":"VLOOKUP(A5,'Training Evals'!A5:M51,13,FALSE)","v":{"$error":"#N/A"}},{"$f":"VLOOKUP(A5,'Training Evals'!A5:N52,6,FALSE)","v":{"$error":"#N/A"}}]
[null,null,null,null,null,null,null,null,null,{"$f":"VLOOKUP(A6,'Training Evals'!A6:M52,13,FALSE)","v":{"$error":"#N/A"}},{"$f":"VLOOKUP(A6,'Training Evals'!A6:N53,6,FALSE)","v":{"$error":"#N/A"}}]
[null,null,null,null,null,null,null,null,null,{"$f":"VLOOKUP(A7,'Training Evals'!A7:M53,13,FALSE)","v":{"$error":"#N/A"}},{"$f":"VLOOKUP(A7,'Training Evals'!A7:N54,6,FALSE)","v":{"$error":"#N/A"}}]
[null,null,null,null,null,null,null,null,null,{"$f":"VLOOKUP(A8,'Training Evals'!A8:M54,13,FALSE)","v":{"$error":"#N/A"}},{"$f":"VLOOKUP(A8,'Training Evals'!A8:N55,6,FALSE)","v":{"$error":"#N/A"}}]
[null,null,null,null,null,null,null,null,null,{"$f":"VLOOKUP(A9,'Training Evals'!A9:M55,13,FALSE)","v":{"$error":"#N/A"}},{"$f":"VLOOKUP(A9,'Training Evals'!A9:N56,6,FALSE)","v":{"$error":"#N/A"}}]
[null,null,null,null,null,null,null,null,null,{"$f":"VLOOKUP(A10,'Training Evals'!A10:M56,13,FALSE)","v":{"$error":"#N/A"}},{"$f":"VLOOKUP(A10,'Training Evals'!A10:N57,6,FALSE)","v":{"$error":"#N/A"}}]
[null,null,null,null,null,null,null,null,null,{"$f":"VLOOKUP(A11,'Training Evals'!A11:M57,13,FALSE)","v":{"$error":"#N/A"}},{"$f":"VLOOKUP(A11,'Training Evals'!A11:N58,6,FALSE)","v":{"$error":"#N/A"}}]
[null,null,null,null,null,null,null,null,null,{"$f":"VLOOKUP(A12,'Training Evals'!A12:M58,13,FALSE)","v":{"$error":"#N/A"}},{"$f":"VLOOKUP(A12,'Training Evals'!A12:N59,6,FALSE)","v":{"$error":"#N/A"}}]
[null,null,null,null,null,null,null,null,null,{"$f":"VLOOKUP(A13,'Training Evals'!A13:M59,13,FALSE)","v":{"$error":"#N/A"}},{"$f":"VLOOKUP(A13,'Training Evals'!A13:N60,6,FALSE)","v":{"$error":"#N/A"}}]
[null,null,null,null,null,null,null,null,null,{"$f":"VLOOKUP(A14,'Training Evals'!A14:M60,13,FALSE)","v":{"$error":"#N/A"}},{"$f":"VLOOKUP(A14,'Training Evals'!A14:N61,6,FALSE)","v":{"$error":"#N/A"}}]
[null,null,null,null,null,null,null,null,null,{"$f":"VLOOKUP(A15,'Training Evals'!A15:M61,13,FALSE)","v":{"$error":"#N/A"}},{"$f":"VLOOKUP(A15,'Training Evals'!A15:N62,6,FALSE)","v":{"$error":"#N/A"}}]
[null,null,null,null,null,null,null,null,null,{"$f":"VLOOKUP(A16,'Training Evals'!A16:M62,13,FALSE)","v":{"$error":"#N/A"}},{"$f":"VLOOKUP(A16,'Training Evals'!A16:N63,6,FALSE)","v":{"$error":"#N/A"}}]
[null,null,null,null,null,null,null,null,null,{"$f":"VLOOKUP(A17,'Training Evals'!A17:M63,13,FALSE)","v":{"$error":"#N/A"}},{"$f":"VLOOKUP(A17,'Training Evals'!A17:N64,6,FALSE)","v":{"$error":"#N/A"}}]
[null,null,null,null,null,null,null,null,null,{"$f":"VLOOKUP(A18,'Training Evals'!A18:M64,13,FALSE)","v":{"$error":"#N/A"}},{"$f":"VLOOKUP(A18,'Training Evals'!A18:N65,6,FALSE)","v":{"$error":"#N/A"}}]
[null,null,null,null,null,null,null,null,null,{"$f":"VLOOKUP(A19,'Training Evals'!A19:M65,13,FALSE)","v":{"$error":"#N/A"}},{"$f":"VLOOKUP(A19,'Training Evals'!A19:N66,6,FALSE)","v":{"$error":"#N/A"}}]
[null,null,null,null,null,null,null,null,null,{"$f":"VLOOKUP(A20,'Training Evals'!A20:M66,13,FALSE)","v":{"$error":"#N/A"}},{"$f":"VLOOKUP(A20,'Training Evals'!A20:N67,6,FALSE)","v":{"$error":"#N/A"}}]
[null,null,null,null,null,null,null,null,null,{"$f":"VLOOKUP(A21,'Training Evals'!A21:M67,13,FALSE)","v":{"$error":"#N/A"}},{"$f":"VLOOKUP(A21,'Training Evals'!A21:N68,6,FALSE)","v":{"$error":"#N/A"}}]
[null,null,null,null,null,null,null,null,null,{"$f":"VLOOKUP(A22,'Training Evals'!A22:M68,13,FALSE)","v":{"$error":"#N/A"}},{"$f":"VLOOKUP(A22,'Training Evals'!A22:N69,6,FALSE)","v":{"$error":"#N/A"}}]
[null,null,null,null,null,null,null,null,null,{"$f":"VLOOKUP(A23,'Training Evals'!A23:M69,13,FALSE)","v":{"$error":"#N/A"}},{"$f":"VLOOKUP(A23,'Training Evals'!A23:N70,6,FALSE)","v":{"$error":"#N/A"}}]
[null,null,null,null,null,null,null,null,null,{"$f":"VLOOKUP(A24,'Training Evals'!A24:M70,13,FALSE)","v":{"$error":"#N/A"}},{"$f":"VLOOKUP(A24,'Training Evals'!A24:N71,6,FALSE)","v":{"$error":"#N/A"}}]
[null,null,null,null,null,null,null,null,null,{"$f":"VLOOKUP(A25,'Training Evals'!A25:M71,13,FALSE)","v":{"$error":"#N/A"}},{"$f":"VLOOKUP(A25,'Training Evals'!A25:N72,6,FALSE)","v":{"$error":"#N/A"}}]

{"sheet":"Instructions 2","index":9,"n_rows":51,"n_cols":3,"rows_kept":51,"cut":false,"hidden":false,"merged":[]}
["STEPS"]
[1,"Assign requirement values (Req't)"]
[2,"Assess current level (NOW)"]
[3,"Conduct gap assessment [ gap value = degree of development needed] "]
[4,"Develop ACTION PLAN FOR PROFESSIONAL DEVELOPMENT"]
[5,"Schedule training"]
[6,"Execute & track results of plan"]
[7,"Repeat at appropriate intervals"]
[]
["RATINGS"]
[]
["Level"]
[1,"NOVICE"]
[null,null,"- no demonstrated skill"]
[null,null,"- may demonstrate awareness of skill need"]
[2,"DEVELOPING"]
[null,null,"- Able to perform basic functions "]
[null,null,"- Limited in simpler/limited number of environments"]
[null,null,"- Consistency may vary"]
[null,null,"- May require frequent supervision/advice/…"]
[3,"EXPERIENCED"]
[null,null,"- Demonstrates skill consistently "]
[null,null,"- Can adapt to some changes in environment "]
[null,null,"- Recognizes and utilizes opportunites to exhibit or use skill"]
[]
[4,"PROFICIENT"]
[null,null,"- Demonstrates high skill in very consistent manner"]
[null,null,"- Exhibits mastery in a wide variety of situations and circumstances"]
[null,null,"- Often regarded as an authority in skill area"]
[]
[5,"EXPERT"]
[null,null,"- Demonstrates great skill with highest degree and breadth of knowledge"]
[null,null,"- Exhibits mastery in a wide variety of complex situations and circumstances"]
[null,null,"- Capable of mentoring and teaching others"]
[null,null,"- Exhibits continual learning"]
[]
["SKILL PRIORITY"]
["USE as needed OR Omit OR develop own approach"]
["1 .  example of a ranking system"]
["Level"," "]
["A","HIGH"]
["B","MODERATE"]
["C","LOW"]
[]
["Or a numbering system…whatever method you choose, ensure your reports understand"]
[0,"No priority (fully trained)"]
[1,"low priority"]
[2,"needs to be done"]
[3,"Important"]
[4,"High priority"]
[5,"Top priority"]